BEGIN:VCALENDAR
VERSION:2.0
PRODID:-//wp-events-plugin.com//6.4.7.1//EN
TZID:America/New_York
X-WR-TIMEZONE:America/New_York
BEGIN:VEVENT
UID:3508@carolinacanoeclub.org
DTSTART;TZID=America/New_York:20260424T171500
DTEND;TZID=America/New_York:20260424T191500
DTSTAMP:20260105T205214Z
URL:https://www.carolinacanoeclub.org/events/ymca-asheville-2026-04-24/
SUMMARY:YMCA Asheville
DESCRIPTION:Downtown Asheville YMCA roll session Friday night from 5:15 pm 
 - 7:15 pm (there are two separate sessions\, each 1-hour long).\nThis is t
 he YMCA on Woodfin Street. 30 Woodfin Street 28801\nGo get your roll on!\n
 \n$5 for members\, $10 for non-members. Preregistration recommended but no
 t required: https://www.ymcawnc.org/locations/centers/woodfin\n\nAs always
 \, best to call first: 828-210-9622
CATEGORIES:Roll Practice
END:VEVENT
BEGIN:VTIMEZONE
TZID:America/New_York
X-LIC-LOCATION:America/New_York
BEGIN:DAYLIGHT
DTSTART:20260308T030000
TZOFFSETFROM:-0500
TZOFFSETTO:-0400
TZNAME:EDT
END:DAYLIGHT
END:VTIMEZONE
END:VCALENDAR