BEGIN:VCALENDAR
VERSION:2.0
PRODID:-//wp-events-plugin.com//6.4.7.1//EN
TZID:America/New_York
X-WR-TIMEZONE:America/New_York
BEGIN:VEVENT
UID:2628@carolinacanoeclub.org
DTSTART;TZID=America/New_York;VALUE=DATE:20220319
DTEND;TZID=America/New_York;VALUE=DATE:20220321
DTSTAMP:20220212T130036Z
URL:https://www.carolinacanoeclub.org/events/wilderness-1st-aid-cpr/
SUMMARY:Wilderness 1st Aid/CPR
DESCRIPTION:Wilderness 1st Aid /CPR Class\n\nDate: March 19/20th\n\nLocatio
 n: Rolling View Community Center\, Falls Lake (4201 Baptist Road\, Durham\
 , NC)\n\nCost:  $190-$220:  $190 for WFA and $30 for CPR(optional)\n\nTh
 is is a class hosted by Carolina Kayak Club (CKC).  They have offered the
  CCC 3 slots (2 still available).\n\nInstructor:  Brandon Munsell.  Bran
 don has taught this course several times and is an excellent instructor. 
  His background is US Army medic\, US Coast Guard\, SOLO\, and now owns hi
 s own company – Learn to Survive.\n\nThis 16-hour\, 2-day entry-level co
 urse is the ideal certification for outdoor enthusiasts looking for basic 
 first aid training and back country medical skills. Wilderness First Aid (
 WFA) covers topics ranging from preparation and prevention to assessment a
 nd treatment. Students will have an opportunity to learn practical skills 
 through hands-on scenarios as well as in a traditional classroom setting.\
 n\nFee will include cost of course\, course materials\, and lunch on Satur
 day.  Participants will need to bring their own lunch on Sunday.\n\nParti
 cipants should wear comfortable clothing\, bring paddle\, PFD\, and their 
 current first aid kit.\n\nWilderness First Aid (WFA) is a 2-year certifica
 tion\n\nIf you are interested in attending this class as a CCC member then
  please let me know.  Slots are first come first serve and I will need th
 e names by Feb 15th.\n\nThank you\n\nWilliam Holman\n\nSafety Chair\n\nsaf
 ety.chair@carolinacanoeclub.org
CATEGORIES:Non-CCC Activity
END:VEVENT
BEGIN:VTIMEZONE
TZID:America/New_York
X-LIC-LOCATION:America/New_York
BEGIN:DAYLIGHT
DTSTART:20220313T030000
TZOFFSETFROM:-0500
TZOFFSETTO:-0400
TZNAME:EDT
END:DAYLIGHT
END:VTIMEZONE
END:VCALENDAR