BEGIN:VCALENDAR
VERSION:2.0
PRODID:-//wp-events-plugin.com//6.4.7.1//EN
TZID:America/New_York
X-WR-TIMEZONE:America/New_York
BEGIN:VEVENT
UID:485@carolinacanoeclub.org
DTSTART;TZID=America/New_York:20190703T110000
DTEND;TZID=America/New_York:20190703T110000
DTSTAMP:20200920T171624Z
URL:https://www.carolinacanoeclub.org/events/week-rivers-sprint-through-fa
 lls/
SUMMARY:Week of Rivers - Sprint Through The Falls
DESCRIPTION:How fast can you paddle from Concrete Beach to the Photo Stand 
 Stairs? Find out July 3rd at 11:00 am. This is a VERY informal timed event
 . NOT A RACE. Think of it as a service provided by fellow club members. Pe
 rhaps you will be inspired to try down river racing.  A couple of radios\
 , a stopwatch\, adoring fans and off you go. Take several runs and see if 
 you can improve your line and your time. Cowbells for spectators are appro
 priate for this event and will encourage the paddlers. Best times will be 
 recognized at the July 4th morning meeting. Stick around and participate i
 n or cheer for Bad Idea Theatre.\nDate: July 3\, 2019\nLocation: Nantahala
  River\, meet at Concrete Beach at 10:45.
CATEGORIES:CCC Activity
END:VEVENT
BEGIN:VTIMEZONE
TZID:America/New_York
X-LIC-LOCATION:America/New_York
BEGIN:DAYLIGHT
DTSTART:20190310T030000
TZOFFSETFROM:-0500
TZOFFSETTO:-0400
TZNAME:EDT
END:DAYLIGHT
END:VTIMEZONE
END:VCALENDAR