BEGIN:VCALENDAR
VERSION:2.0
PRODID:-//wp-events-plugin.com//6.4.7.1//EN
TZID:America/New_York
X-WR-TIMEZONE:America/New_York
BEGIN:VEVENT
UID:482@carolinacanoeclub.org
DTSTART;TZID=America/New_York:20190704T103000
DTEND;TZID=America/New_York:20190704T160000
DTSTAMP:20200925T123551Z
URL:https://www.carolinacanoeclub.org/events/week-rivers-pirates-tuckasege
 e/
SUMMARY:2019 Week of Rivers - Pirates of the Tuckasegee!
DESCRIPTION:Arrrrgh Mateys! Dread Pirate Captains Hoffman and Markoff are c
 onscripting their crew for the Annual Pirates of the Tuckasegee Cruise. Pi
 rates of all ages are welcome. Times posted are approximate. Actual sailin
 g time will depend on the tides. This is a day-long water fight down the T
 uckasegee River in Dillsboro\, NC\, and includes several class II rapids. 
 All paddlers are welcome. Water canons are encouraged. (No head shots\, pl
 ease) Helmets recommended for everyone and required for children. Doesn't 
 matter what kind: bike\, skate\, ski\, scooter\, crash\, or white water\, 
 just some form of cranial protection. PFDs are required to be worn during 
 the trip. A playful\, fun spirit is also required. Pirate costumes and dec
 orations encouraged. Optional walk the plank at Jump Rock.\nBring lunch\, 
 sunscreen and plenty of water. More specific details will be discussed at 
 the morning meetings on July 3 and July 4.\nIce cream social back at Smoky
  Mountain Meadows Campground Pavilion at 7:00 p.m. Bryson City fireworks a
 t 9:00 p.m. if you're still awake.
CATEGORIES:CCC Activity
END:VEVENT
BEGIN:VTIMEZONE
TZID:America/New_York
X-LIC-LOCATION:America/New_York
BEGIN:DAYLIGHT
DTSTART:20190310T030000
TZOFFSETFROM:-0500
TZOFFSETTO:-0400
TZNAME:EDT
END:DAYLIGHT
END:VTIMEZONE
END:VCALENDAR