BEGIN:VCALENDAR
VERSION:2.0
PRODID:-//wp-events-plugin.com//6.4.7.1//EN
TZID:America/New_York
X-WR-TIMEZONE:America/New_York
BEGIN:VEVENT
UID:486@carolinacanoeclub.org
DTSTART;TZID=America/New_York:20190703T200000
DTEND;TZID=America/New_York:20190703T213000
DTSTAMP:20200925T121127Z
URL:https://www.carolinacanoeclub.org/events/week-rivers-music-boogertown-
 gap-old-time-string-band/
SUMMARY:Week of Rivers - Music by Boogertown Gap Old Time String band
DESCRIPTION:To cap off the CCC 50 celebration we welcome back Boogertown Ga
 p. They played for us last year\, but their show was wrapping up as the di
 nner crowd rolled in. This year we have dinner at the campground and the s
 how starts at 8:00 pm so everyone should get to enjoy their informative\, 
 crowd participative\, entertaining Appalachian Mountain Music performance.
 \nhttp://www.boogertowngap.com/?fbclid=IwAR2XqNtILSHpQqQD4ZC3GlN9LA2KRmLWV
 ...
CATEGORIES:CCC Activity
END:VEVENT
BEGIN:VTIMEZONE
TZID:America/New_York
X-LIC-LOCATION:America/New_York
BEGIN:DAYLIGHT
DTSTART:20190310T030000
TZOFFSETFROM:-0500
TZOFFSETTO:-0400
TZNAME:EDT
END:DAYLIGHT
END:VTIMEZONE
END:VCALENDAR