BEGIN:VCALENDAR
VERSION:2.0
PRODID:-//wp-events-plugin.com//6.4.7.1//EN
TZID:America/New_York
X-WR-TIMEZONE:America/New_York
BEGIN:VEVENT
UID:487@carolinacanoeclub.org
DTSTART;TZID=America/New_York:20190703T180000
DTEND;TZID=America/New_York:20190703T193000
DTSTAMP:20200920T173119Z
URL:https://www.carolinacanoeclub.org/events/week-rivers-ccc-50-celebratio
 n-dinner/
SUMMARY:Week of Rivers CCC 50 Celebration Dinner
DESCRIPTION:Join us for dinner as we continue our busy day of activities co
 mmemorating the 50th Anniversary of Carolina Canoe Club. Dinner will begin
  at 6:00 pm at the pavilion and is being catered by Big Nick's Barbecue fr
 om Sylva\, NC. https://bignicksbbq.com/   A vegetarian option will be av
 ailable as well. CCC is picking up the tab for most of this\, but we are a
 sking everyone to purchase a ticket for $5 in order to limit waste and pre
 vent shortages. Purchase your tickets here: https://www.carolinacanoeclub.
 org/catalog/50th-anniversary\nYou can also purchase your ticket Saturday\,
  Sunday or Monday morning at the meeting. An announcement will be made at 
 the morning meeting on who to see to pay.\nTo help reduce trash\, please b
 ring your eating utensils and plates if you are camping. There will be pla
 tes and utensils available as well. Bring a chair to eat at the pavilion o
 r head back to your campsite and come back around 7:15 for the birthday ca
 ke cutting and story telling.\nBoogertown Gap will start their performance
  at 8:00 pm. Family friendly\, old time mountain music will have you tappi
 ng your toes and appreciating the entertainment of simpler times.
CATEGORIES:CCC Activity
END:VEVENT
BEGIN:VTIMEZONE
TZID:America/New_York
X-LIC-LOCATION:America/New_York
BEGIN:DAYLIGHT
DTSTART:20190310T030000
TZOFFSETFROM:-0500
TZOFFSETTO:-0400
TZNAME:EDT
END:DAYLIGHT
END:VTIMEZONE
END:VCALENDAR