BEGIN:VCALENDAR
VERSION:2.0
PRODID:-//wp-events-plugin.com//6.4.7.1//EN
TZID:America/New_York
X-WR-TIMEZONE:America/New_York
BEGIN:VEVENT
UID:484@carolinacanoeclub.org
DTSTART;TZID=America/New_York:20190703T120000
DTEND;TZID=America/New_York:20190703T160000
DTSTAMP:20200920T172717Z
URL:https://www.carolinacanoeclub.org/events/week-rivers-bad-idea-theatre/
SUMMARY:2019 Week of Rivers - Bad Idea Theatre
DESCRIPTION:It's back! Bad Idea Theatre rides again! Pool floats\, Nantahal
 a Falls\, July. This event has been running for several years and does not
  disappoint. There are stories and legends\; incredible rides\, spectacula
 r wipeouts and remarkable saves. Bring your favorite pool float\, large or
  small. Wear a costume. Bring your cowbells to cheer on the participants a
 nd safety teams. If you've not done it before\, plan to swim Nantahala Fal
 ls and you'll be prepared. There are a number of You Tube videos showing p
 revious events and a sister event\, The Nantahala Open\, put on by Endless
  River Adventures in late April each year.  We will have safety set above
  and below the falls and wranglers to assist you. Please spend some time a
 s a wrangler or safety to help spread the load. July 3rd\, High Noon ...is
 h.
CATEGORIES:CCC Activity
END:VEVENT
BEGIN:VTIMEZONE
TZID:America/New_York
X-LIC-LOCATION:America/New_York
BEGIN:DAYLIGHT
DTSTART:20190310T030000
TZOFFSETFROM:-0500
TZOFFSETTO:-0400
TZNAME:EDT
END:DAYLIGHT
END:VTIMEZONE
END:VCALENDAR