BEGIN:VCALENDAR
VERSION:2.0
PRODID:-//wp-events-plugin.com//6.4.7.1//EN
TZID:America/New_York
X-WR-TIMEZONE:America/New_York
BEGIN:VEVENT
UID:3387@carolinacanoeclub.org
DTSTART;TZID=America/New_York;VALUE=DATE:20260626
DTEND;TZID=America/New_York;VALUE=DATE:20260706
DTSTAMP:20250922T212855Z
URL:https://www.carolinacanoeclub.org/events/week-of-rivers-6/
SUMMARY:Week of Rivers
DESCRIPTION:Week of Rivers\, the Carolina Canoe Club’s flagship annual wh
 itewater paddling event\, started in 1975\, and won the ACA 2019 Sanctione
 d Event of the Year. Each year around the 4th of July\, much of the CCC’
 s membership converges on the Smoky Mountain Meadows Campground in Bryson 
 City\, NC for 9 days of paddling fun\, evening activities\, and camping. B
 ryson City is nestled in the western corner of North Carolina\, right in t
 he heart of whitewater heaven\, the Nantahala River Gorge. Though not a co
 mprehensive list\, nearby rivers include the Nantahala\, Tellico\, Tuckase
 gee\, French Broad\, and Ocoee. Rivers farther away include the Nolichucky
 \, Chattooga and the Little (TN).\n\nFor more information: https://www.car
 olinacanoeclub.org/content/week-rivers/
CATEGORIES:CCC Activity
END:VEVENT
BEGIN:VTIMEZONE
TZID:America/New_York
X-LIC-LOCATION:America/New_York
BEGIN:DAYLIGHT
DTSTART:20260308T030000
TZOFFSETFROM:-0500
TZOFFSETTO:-0400
TZNAME:EDT
END:DAYLIGHT
END:VTIMEZONE
END:VCALENDAR