BEGIN:VCALENDAR
VERSION:2.0
PRODID:-//wp-events-plugin.com//6.4.7.1//EN
TZID:America/New_York
X-WR-TIMEZONE:America/New_York
BEGIN:VEVENT
UID:3628@carolinacanoeclub.org
DTSTART;TZID=America/New_York:20260429T190000
DTEND;TZID=America/New_York:20260429T203000
DTSTAMP:20260416T005749Z
URL:https://www.carolinacanoeclub.org/events/trip-coordinator-panel-revist
 ed/
SUMMARY:Trip Coordinator Panel Revisted
DESCRIPTION:Sorry everyone\, but I was forced to cancel/reschedule (an emer
 gency root canal\, Percoset\, and nausea got in my way). I apologies to th
 e inconvenience to those who volunteered to chair the panel and those who 
 scheduled time for it.\n\nEver wanted to coordinate a trip\, but were unsu
 re what you'd need to do? Want to be eligible for the CCC trip coordinato
 r incentives? Do you have questions about the trip coordinator resources?\
 n\nJoin us April 29th at 7:00 pm for a panel on trip coordination to pick 
 the brains of the some of CCC's most prolific trip coordinators!\n\nYou ca
 n do this!  You don't have to be an expert.  Learn the basics in this pa
 nel and Q&amp\;A session.\n\nJoin us at https://www.carolinacanoeclub.org/
 zoom-meeting/
CATEGORIES:Clinic
END:VEVENT
BEGIN:VTIMEZONE
TZID:America/New_York
X-LIC-LOCATION:America/New_York
BEGIN:DAYLIGHT
DTSTART:20260308T030000
TZOFFSETFROM:-0500
TZOFFSETTO:-0400
TZNAME:EDT
END:DAYLIGHT
END:VTIMEZONE
END:VCALENDAR