BEGIN:VCALENDAR
VERSION:2.0
PRODID:-//wp-events-plugin.com//6.4.7.1//EN
TZID:America/New_York
X-WR-TIMEZONE:America/New_York
BEGIN:VEVENT
UID:3593@carolinacanoeclub.org
DTSTART;TZID=America/New_York:20260513T163000
DTEND;TZID=America/New_York:20260513T193000
DTSTAMP:20260318T125426Z
URL:https://www.carolinacanoeclub.org/events/triad-are-paddlers-roll-pract
 ice-cookout/
SUMMARY:Triad Are Paddlers roll practice/cookout.
DESCRIPTION:Triad Area Paddlers roll practice/cookout.Join us at the Piney 
 Bluff boat launch on Belews Lake. This is an opportunity to gather with fr
 iends and sharpen your skills. We will not have professional instruction\,
  but there will be experienced paddlers there for support and encouragemen
 t.\nIf you are a new boater\, feel free to reach out and ask questions. We
  ask everyone to bring your boat\, paddle\, life jacket (required)\, spray
  skirt\, helmet\, and whatever gear you might need. Bring your canoe\, pla
 yboat\, or creek boat.\nI will be grilling hot dogs. Bringing ketchup and 
 mustard. Feel free to bring another pack of hot dogs\, buns\, veggie burge
 rs\, favorite side dish and/or your favorite condiments. It's expected tha
 t you bring a side to share\, because that's how we roll.\n
CATEGORIES:Roll Practice
END:VEVENT
BEGIN:VTIMEZONE
TZID:America/New_York
X-LIC-LOCATION:America/New_York
BEGIN:DAYLIGHT
DTSTART:20260308T030000
TZOFFSETFROM:-0500
TZOFFSETTO:-0400
TZNAME:EDT
END:DAYLIGHT
END:VTIMEZONE
END:VCALENDAR