BEGIN:VCALENDAR
VERSION:2.0
PRODID:-//wp-events-plugin.com//6.4.7.1//EN
TZID:America/New_York
X-WR-TIMEZONE:America/New_York
BEGIN:VEVENT
UID:3560@carolinacanoeclub.org
DTSTART;TZID=America/New_York:20260520T174500
DTEND;TZID=America/New_York:20260520T201500
DTSTAMP:20260213T145917Z
URL:https://www.carolinacanoeclub.org/events/roll-skills-clinic-jordan-lak
 e-farrington-point-2/
SUMMARY:Roll &amp\; Skills Clinic\, Jordan Lake Farrington Point
DESCRIPTION:Roll &amp\; Skills Clinics are intended for anyone who wishes t
 o learn or improve their kayak roll\, an invaluable skill in paddling whit
 ewater. If you haven’t rolled by the end of the course\, you’ll leave 
 knowing what you need to achieve that goal. You will also have an opportun
 ity to work on other skills\, such as paddle strokes and alternative assis
 ted rescues. This course is limited to three students per instructor.\n\nF
 ormat: Beginners will start with body awareness exercises and building com
 fort being underwater\, including how to exit a boat safely while upside d
 own. Instructors will then move to teaching safe body mechanics and rollin
 g progressions.\n\nWhat to Bring\nTowel\nSwimwear\nChange of clothes\nRive
 r footwear\nSunscreen\nWater bottle\nNose Plugs (Can be purchased locally 
 at Great Outdoor Provision Company)\n\nIf you have your own kayak\, paddle
 \, and spray skirt you are learning to use\, we encourage you to bring the
 m\n\nWhat the CCC Provides\nKayak\nPaddle\nSpray Skirt\n\nMembership in th
 e CCC is required. This clinic is for persons over 18 years of age\, or ov
 er 15 years with a parent attending the clinic (Above 13 years may also be
  considered on a case-by-case basis). CCC is a Paddle America Club insured
  by the ACA (American Canoe Association). Registration is non-refundable.\
 n\nRequirements:\nCompletion of ACA &amp\; CCC waivers (follow-up by Instr
 uctor after initial registration)\nCompletion of questionnaire (follow-up 
 by Instructor after initial registration)
CATEGORIES:Clinic
END:VEVENT
BEGIN:VTIMEZONE
TZID:America/New_York
X-LIC-LOCATION:America/New_York
BEGIN:DAYLIGHT
DTSTART:20260308T030000
TZOFFSETFROM:-0500
TZOFFSETTO:-0400
TZNAME:EDT
END:DAYLIGHT
END:VTIMEZONE
END:VCALENDAR