BEGIN:VCALENDAR
VERSION:2.0
PRODID:-//wp-events-plugin.com//6.4.7.1//EN
TZID:America/New_York
X-WR-TIMEZONE:America/New_York
BEGIN:VEVENT
UID:3415@carolinacanoeclub.org
DTSTART;TZID=America/New_York:20260424T170000
DTEND;TZID=America/New_York:20260424T200000
DTSTAMP:20251013T171023Z
URL:https://www.carolinacanoeclub.org/events/raleigh-open-and-private-roll
 -2026-04-24/
SUMMARY:Raleigh Open and Private Roll
DESCRIPTION:Open Kayak Pool Sessions &amp\; Private Roll Instruction are co
 ming up! Join us on Friday evenings at Optimist Pool in Raleigh! Sessions
  are open to all levels of boaters\, whether you’re working on your roll
 \, practicing new skills\, or just wanting to try out the sport. Formal in
 struction is not provided\, but a brief basic boat orientation is availabl
 e for beginners. Take advantage of the warm water at the pool and practice
  your paddling! A pool session membership is required\; get one on RecLink
 .\n\nPrivate Roll Instruction sessions are also available from 5-6 p.m. an
 d 6-7 p.m. for a $41 fee. Register on RecLink.\n\nFridays\, 5 - 8 p.m.\nEn
 trance Fee: $8\nEquipment Rental (includes kayak\, paddle\, spray skirt\
 , and flotation device): $4\n\nThere will not be sessions on 11/28\, 12/26
 \, or 4/3.\n\nAs always\, it’s best to call and confirm.\nRaleigh Optimi
 st Pool\, NC\n(919) 996-2790
CATEGORIES:Roll Practice
END:VEVENT
BEGIN:VTIMEZONE
TZID:America/New_York
X-LIC-LOCATION:America/New_York
BEGIN:DAYLIGHT
DTSTART:20260308T030000
TZOFFSETFROM:-0500
TZOFFSETTO:-0400
TZNAME:EDT
END:DAYLIGHT
END:VTIMEZONE
END:VCALENDAR