BEGIN:VCALENDAR
VERSION:2.0
PRODID:-//wp-events-plugin.com//6.4.7.1//EN
TZID:America/New_York
X-WR-TIMEZONE:America/New_York
BEGIN:VEVENT
UID:505@carolinacanoeclub.org
DTSTART;TZID=America/New_York:20180704T103000
DTEND;TZID=America/New_York:20180704T103000
DTSTAMP:20200821T015200Z
URL:https://www.carolinacanoeclub.org/events/pirates-of-the-tuckasegee-201
 8/
SUMMARY:Pirates of the Tuckasegee 2018
DESCRIPTION:“Ahoy there matey! Tock the Croc at 2 o’clock!  Ready\, A
 im\, Fire!  It’s a swashbucklin’ fine time for buccaneers\, wenches
 \, and scallywags\, alike. \nTranslation for ye landlubbers—The Pirates
  of the Tuck is  a rafting/hard-boating trip down the Class I/II Tuckaseg
 ee River for young (and young at heart!) Pirates armed with squirt guns an
 d super soakers!!!    Bring plenty of water cannons and  there won't b
 e a dry boater in the fleet.   Beware mutineers\, you'll be walking the p
 lank! \nFor more information\, contact the Head Pirates - Mark Hoffman an
 d Terry Markoff\n
CATEGORIES:CCC Activity
END:VEVENT
BEGIN:VTIMEZONE
TZID:America/New_York
X-LIC-LOCATION:America/New_York
BEGIN:DAYLIGHT
DTSTART:20180311T030000
TZOFFSETFROM:-0500
TZOFFSETTO:-0400
TZNAME:EDT
END:DAYLIGHT
END:VTIMEZONE
END:VCALENDAR