BEGIN:VCALENDAR
VERSION:2.0
PRODID:-//wp-events-plugin.com//6.4.7.1//EN
TZID:America/New_York
X-WR-TIMEZONE:America/New_York
BEGIN:VEVENT
UID:2663@carolinacanoeclub.org
DTSTART;TZID=America/New_York;VALUE=DATE:20221231
DTEND;TZID=America/New_York;VALUE=DATE:20230101
DTSTAMP:20221228T170848Z
URL:https://www.carolinacanoeclub.org/events/paddling-eastern-north-caroli
 na-book-sales/
SUMMARY:Paddling Eastern North Carolina Book Sales
DESCRIPTION:This is a system to reserve one of the "Paddling Eastern North 
 Carolina\, 3rd Edition" guidebooks written by one of our very own\, Paul F
 erguson.  If you would like to reserve a book then click to register and 
 pay your $10 and we will reserve one of the books for you.\n\nWe will be a
 nnouncing different dates and locations such as roll practice at Jordan La
 ke\, during WOR\, and our December Meeting/Christmas party when we will ha
 ve the books available to pickup or to purchase if you have not reserved o
 ne and we have any left.\n\nPlease let me know if you have any questions.\
 n\nWilliam Holman\n\n[Sales are not currently open\, but will resume short
 ly in our on-line store]\n\n&nbsp\;
ATTACH;FMTTYPE=image/jpeg:https://i0.wp.com/www.carolinacanoeclub.org/wp-c
 ontent/uploads/Paddling-Easerrn-NC.jpg?fit=333%2C499&ssl=1
CATEGORIES:CCC Activity
END:VEVENT
BEGIN:VTIMEZONE
TZID:America/New_York
X-LIC-LOCATION:America/New_York
BEGIN:STANDARD
DTSTART:20221106T010000
TZOFFSETFROM:-0400
TZOFFSETTO:-0500
TZNAME:EST
END:STANDARD
END:VTIMEZONE
END:VCALENDAR