BEGIN:VCALENDAR
VERSION:2.0
PRODID:-//wp-events-plugin.com//6.4.7.1//EN
TZID:America/New_York
X-WR-TIMEZONE:America/New_York
BEGIN:VEVENT
UID:3556@carolinacanoeclub.org
DTSTART;TZID=America/New_York;VALUE=DATE:20261003
DTEND;TZID=America/New_York;VALUE=DATE:20261005
DTSTAMP:20260213T213555Z
URL:https://www.carolinacanoeclub.org/events/ocoee-workshop-weekend/
SUMMARY:Ocoee Workshop Weekend
DESCRIPTION:Ocoee Workshop Weekend is a skills-focused clinic for solid int
 ermediate to advanced-intermediate paddlers who want to practice complex o
 r difficult moves in a supportive\, intermediate whitewater environment. T
 he Ocoee River provides continuous\, dynamic Class III whitewater that all
 ows paddlers to work on precision\, commitment\, and recovery without step
 ping into Class IV difficulty.\n\nThis clinic is about using the river as 
 a training ground\, not learning the Ocoee specifically.\n\nClass Size: 6 
 Students\n\nYou May Be Ready for Ocoee Workshop Weekend if You:\n\n 	Paddl
 e Class III rivers confidently and with control\n 	Have a strong combat ro
 ll that works under pressure\n 	Are comfortable in continuous\, pushy wate
 r\n 	Can catch eddies and adjust lines in fast current\n 	Want to work on 
 advancing your skills without increasing river class\n\nWhat You’ll Work
  On\n\nOcoee Workshop Weekend focuses on learning and refining difficult o
 r complex skills in intermediate-class whitewater.\n\nInstruction commonly
  includes:\n\n 	Maintaining speed and downstream angle through long rapids
 \n 	Precision eddy catching and fast direction changes\n 	Managing momentu
 m in pushy water\n 	Linking complex moves through continuous features\n 	D
 ynamic balance\, bracing\, and recovery in chaotic water\n 	Boofing\n 	Sur
 fing\n\nWhat to Expect\n\nThis is a two-day\, on-river workshop with most 
 instruction taking place directly in rapids and features.\n\nParticipants 
 should expect:\n\n 	Continuous paddling with coaching layered in on the wa
 ter\n 	Short pauses for scouting\, feedback\, and discussion\n 	A faster p
 ace than standard intermediate clinics\n 	An expectation of self-sufficien
 cy and composure\n\nA strong combat roll is required\, as rolling and reco
 very are considered part of normal paddling during this clinic.\n\nPartici
 pants Leave Better Prepared to:\n\n 	Apply advanced techniques confidently
  in Class III whitewater\n 	Paddle continuous rivers with greater precisio
 n and commitment\n 	Maintain composure and recover efficiently when things
  go wrong\n 	Transfer these skills to other pushy\, sustained rivers\n
CATEGORIES:Clinic
END:VEVENT
BEGIN:VTIMEZONE
TZID:America/New_York
X-LIC-LOCATION:America/New_York
BEGIN:DAYLIGHT
DTSTART:20260308T030000
TZOFFSETFROM:-0500
TZOFFSETTO:-0400
TZNAME:EDT
END:DAYLIGHT
END:VTIMEZONE
END:VCALENDAR