BEGIN:VCALENDAR
VERSION:2.0
PRODID:-//wp-events-plugin.com//6.4.7.1//EN
TZID:America/New_York
X-WR-TIMEZONE:America/New_York
BEGIN:VEVENT
UID:3618@carolinacanoeclub.org
DTSTART;TZID=America/New_York;VALUE=DATE:20260502
DTEND;TZID=America/New_York;VALUE=DATE:20260504
DTSTAMP:20260401T170554Z
URL:https://www.carolinacanoeclub.org/events/ocoee-weekend-4/
SUMMARY:Ocoee Weekend
DESCRIPTION:Perhaps posting a trip will encourage others to post trips as w
 ell? Who knows.\n\nAnyway\, I’m headed up to the Ocoee\, camping at Thun
 der Rock\, arriving Friday night and kayaking the Ocoee Sat. and Sunday. O
 thers with appropriate skills are welcome to join me. Note I'm far more a 
 river runner than a playboater.\n\nThe Ocoee is a Class III/III+ river wit
 h long uncomfortable swims. A solid roll is required. I can probably help
  out if you’re not familiar with the lines. 🙂\n\nFor those who don't
  quite feel up to it\, or just want to improve your confidence\, make sure
  to also check out the upcoming Intermediate I and Intermediate II clinics
 .\n\nReach out to me on email\, FB\, or Discord for more information.
CATEGORIES:Trip
END:VEVENT
BEGIN:VTIMEZONE
TZID:America/New_York
X-LIC-LOCATION:America/New_York
BEGIN:DAYLIGHT
DTSTART:20260308T030000
TZOFFSETFROM:-0500
TZOFFSETTO:-0400
TZNAME:EDT
END:DAYLIGHT
END:VTIMEZONE
END:VCALENDAR