BEGIN:VCALENDAR
VERSION:2.0
PRODID:-//wp-events-plugin.com//6.4.7.1//EN
TZID:America/New_York
X-WR-TIMEZONE:America/New_York
BEGIN:VEVENT
UID:3541@carolinacanoeclub.org
DTSTART;TZID=America/New_York;VALUE=DATE:20260926
DTEND;TZID=America/New_York;VALUE=DATE:20261005
DTSTAMP:20260122T053232Z
URL:https://www.carolinacanoeclub.org/events/ocoee-drawdown-7/
SUMMARY:Ocoee Drawdown
DESCRIPTION:Ocoee Drawdown is a special time. It’s not cold\, but you can
  (usually) tell winter is coming. It’s a time of peace and quiet on the 
 Ocoee\, where you can find your way.\n\nThe Ocoee runs the entire week. Mi
 dweek there is typically little to no traffic on the river\, and a great c
 hance to enjoy the Ocoee without playing bumper cars.\n\nI’ll be up ther
 e camped at Thunder Rock\, and welcome others to join me. Worth noting for
  anyone who doesn’t know me that I am not a playboater\, so I at least w
 ill be doing several runs on the Middle Ocoee each day\, and people are we
 lcome to join me for one or more of them. I am happy to discuss lines to t
 hose who desire it. Others are welcome to paddle as they wish!\n\nThe Midd
 le Ocoee is a Class III/III+ river with 15+ rapids packed almost back-to-b
 ack for five miles. Swims can be long and likely include a lot of rocks 
 — think solid combat roll. The Pigeon is easier\, but several solid comf
 ortable Pigeon runs are a typical precursor to a successful day on the Oco
 ee.\n\nCovid vaccination is required for this trip.\n\nIf you have any que
 stions please contact me at drawdown@corwyn.net. You can sign up below.
CATEGORIES:Trip
END:VEVENT
BEGIN:VTIMEZONE
TZID:America/New_York
X-LIC-LOCATION:America/New_York
BEGIN:DAYLIGHT
DTSTART:20260308T030000
TZOFFSETFROM:-0500
TZOFFSETTO:-0400
TZNAME:EDT
END:DAYLIGHT
END:VTIMEZONE
END:VCALENDAR