BEGIN:VCALENDAR
VERSION:2.0
PRODID:-//wp-events-plugin.com//6.4.7.1//EN
TZID:America/New_York
X-WR-TIMEZONE:America/New_York
BEGIN:VEVENT
UID:2452@carolinacanoeclub.org
DTSTART;TZID=America/New_York;VALUE=DATE:20210925
DTEND;TZID=America/New_York;VALUE=DATE:20211004
DTSTAMP:20210923T035614Z
URL:https://www.carolinacanoeclub.org/events/ocoee-drawdown-3/
SUMMARY:Ocoee Drawdown
DESCRIPTION:Ocoee Drawdown is a special time. It's not cold\, but you can (
 usually) tell winter is coming. It's a time of peace and quiet on the Ocoe
 e\, where you can find your way.\n\nThe Ocoee runs the entire week. Midwee
 k there is typically little to no traffic on the river\, and a great chanc
 e to enjoy the Ocoee without playing bumper cars.\n\nI’ll be up there ca
 mped at Thunder Rock\, and welcome others to join me. Worth noting for any
 one who doesn't know me that I am not a playboater\, so I at least will be
  doing laps. I am happy to show lines to those who desire it. Others are w
 elcome to paddle as they wish!\n\nThe Ocoee is a Class III/III+ river with
  15 rapids packed almost back-to-back for five miles. Swims can be long an
 d likely include a lot of rocks -- think solid combat roll. The Pigeon is 
 easier\, but several solid comfortable Pigeon runs are a typical precursor
  to a successful day on the Ocoee.\n\nCovid vaccination is required for th
 is event.
CATEGORIES:Trip
END:VEVENT
BEGIN:VTIMEZONE
TZID:America/New_York
X-LIC-LOCATION:America/New_York
BEGIN:DAYLIGHT
DTSTART:20210314T030000
TZOFFSETFROM:-0500
TZOFFSETTO:-0400
TZNAME:EDT
END:DAYLIGHT
END:VTIMEZONE
END:VCALENDAR