BEGIN:VCALENDAR
VERSION:2.0
PRODID:-//wp-events-plugin.com//6.4.7.1//EN
TZID:America/New_York
X-WR-TIMEZONE:America/New_York
BEGIN:VEVENT
UID:2645@carolinacanoeclub.org
DTSTART;TZID=America/New_York:20220514T000000
DTEND;TZID=America/New_York:20220515T000000
DTSTAMP:20220506T134340Z
URL:https://www.carolinacanoeclub.org/events/novice-whitewater-kayak-clini
 c/
SUMMARY:Novice Whitewater Kayak Clinic - Registration Full
DESCRIPTION:Novice Whitewater Kayak Clinic\n\n&nbsp\;\n\nEvent Date: 05/14
 /2022 - 05/15/2022\n\nRegistration Fee: $90.00\n\nACA Event-Only Insurance
  Fee: $10.00 (or provide ACA Member Number)\n\nLocation: Bryson City\, NC 
 area.  Most likely venues - Fontana Lake and Tuckaseegee River\n\nNovice 
 clinics are targeted at those who have some experience on whitewater and 
 are proficient in flat water\, know basic strokes and can maneuver the boa
 t in Class 1-2 moving water\, and is aimed at improving basic skills.  Us
 ually\, the first half of the first day is spent either on a lake or flat/
 moving water reinforcing basic fundamentals. This is a time that the instr
 uctor uses to assess the class and their skill level.  The second half of
  the first day then transitions to a Class I-II river\, utilizing the skil
 ls practiced on flatwater.  The second day is spent on a class I-II or II
 -III river to allow the students time to practice\, practice\, and then pr
 actice some more until these fundamental skills become second nature.  No
 vice clinic students should have experience and be comfortable on rivers l
 ike the Lower Green\, Middle Haw\, and Tuck Gorge. Those with no experienc
 e or flatwater experience only should register for the beginner clinic.\n\
 nFor other clinic descriptions - https://www.carolinacanoeclub.org/content
 /paddling-clinics/\n\nMembership in CCC is required.   This clinic is fo
 r persons over 18 years of age\, or over 15 years with a parent attending 
 the clinic (Above 13 years may also be considered on a case-by-case basis)
 .  CCC is a Paddle America Club insured by the ACA (American Canoe Associ
 ation). Registration is non-refundable within 14 days prior to the event.\
 n\nRequirements:\n\n 	Whitewater boat and gear (minimum boat\, paddle\, pf
 d\, skirt\, and helmet)\n 	Provide ACA member number or purchase an event-
 only membership. https://www.americancanoe.org/store/viewproduct.aspx?id=7
 08423\n 	Completion of ACA &amp\; CCC waivers (follow-up by Educ. Chair af
 ter initial registration)\n 	Completion of questionnaire (follow-up by Edu
 c. Chair after initial registration)\n\nInstructors: To Be Determined\, Cl
 ass size up to 10 with an ACA certified instructor and Qualified Assistant
 .  Minimum registration is 3 students for the class to take place.\n\nCon
 tact education.chair@carolinacanoeclub.org for questions and advice.\n\nAf
 ter starting the registration process\, please complete it by going to Che
 ckout for payment.
CATEGORIES:Clinic
END:VEVENT
BEGIN:VTIMEZONE
TZID:America/New_York
X-LIC-LOCATION:America/New_York
BEGIN:DAYLIGHT
DTSTART:20220313T030000
TZOFFSETFROM:-0500
TZOFFSETTO:-0400
TZNAME:EDT
END:DAYLIGHT
END:VTIMEZONE
END:VCALENDAR