BEGIN:VCALENDAR
VERSION:2.0
PRODID:-//wp-events-plugin.com//6.4.7.1//EN
TZID:America/New_York
X-WR-TIMEZONE:America/New_York
BEGIN:VEVENT
UID:3320@carolinacanoeclub.org
DTSTART;TZID=America/New_York:20250531T090000
DTEND;TZID=America/New_York:20250601T170000
DTSTAMP:20250408T033538Z
URL:https://www.carolinacanoeclub.org/events/novice-whitewater-kayak-clini
 c-bryson-city-area-3/
SUMMARY:Novice Whitewater Kayak Clinic – Bryson City Area
DESCRIPTION:Novice Whitewater Kayak Clinic – Bryson City Area\nDate/Time:
  05/31/2025 - 06/01/2025\nSkill Level: Novice\nLimited Contact: paul.scrut
 ton@gmail.com\n\n(if page says "Bookings closed" please login first to the
  website to enroll)\n\nNovice Whitewater Kayak Clinic\n\nEvent Date: 05/31
 /2025 - 06/01/2025\n\nRegistration Fee: $110\, includes ACA Event Insuranc
 e fee.\n\nLocation: Bryson City\, NC area. Most likely venues – Fontana 
 Lake and Tuckaseegee River\n\nNovice clinics are targeted at those who hav
 e some experience on whitewater and are proficient in flat water\, know ba
 sic strokes and can maneuver the boat in Class 1-2 moving water\, and is a
 imed at improving basic skills. Usually\, the first half of the first day 
 is spent either on a lake or flat/moving water reinforcing basic fundament
 als. This is a time that the instructor uses to assess the class and their
  skill level. The second half of the first day then transitions to a Class
  I-II river\, utilizing the skills practiced on flatwater. The second day 
 is spent on a class I-II or II-III river to allow the students time to pra
 ctice\, practice\, and then practice some more until these fundamental ski
 lls become second nature. Novice clinic students should have experience an
 d be comfortable on rivers like the Lower Green\, Middle Haw\, and Tuck Go
 rge. Those with no experience or flatwater experience only should register
  for the beginner clinic.\n\nFor other clinic descriptions – https://www
 .carolinacanoeclub.org/content/paddling-clinics/\n\nMembership in CCC is r
 equired. This clinic is for persons over 18 years of age\, or over 15 year
 s with a parent attending the clinic (Above 13 years may also be considere
 d on a case-by-case basis). CCC is a Paddle America Club insured by the AC
 A (American Canoe Association). Registration is non-refundable.\n\nRequire
 ments:\n\nWhitewater boat and gear (minimum boat\, paddle\, pfd\, skirt\, 
 and helmet)\nCompletion of ACA &amp\; CCC waivers (follow-up by Educ. Chai
 r after initial registration)\nCompletion of questionnaire (follow-up by E
 duc. Chair after initial registration)\nInstructor: Jon Godwin. Thomas Wom
 ble will be Qualified Assistant. Class size up to 10 with an ACA certified
  instructor and Qualified Assistant. Minimum registration is 3 students fo
 r the class to take place.\n\nContact education.chair@carolinacanoeclub.or
 g for questions and advice.\n\nAfter starting the registration process\, p
 lease complete it by going to Checkout for payment.\n\nRegistration for th
 is class closes on 7th May\, 2024\n\nThis is an ACA Sanctioned Event.\n\n
CATEGORIES:Clinic
END:VEVENT
BEGIN:VTIMEZONE
TZID:America/New_York
X-LIC-LOCATION:America/New_York
BEGIN:DAYLIGHT
DTSTART:20250309T030000
TZOFFSETFROM:-0500
TZOFFSETTO:-0400
TZNAME:EDT
END:DAYLIGHT
END:VTIMEZONE
END:VCALENDAR