BEGIN:VCALENDAR
VERSION:2.0
PRODID:-//wp-events-plugin.com//6.4.7.1//EN
TZID:America/New_York
X-WR-TIMEZONE:America/New_York
BEGIN:VEVENT
UID:3056@carolinacanoeclub.org
DTSTART;TZID=America/New_York;VALUE=DATE:20240511
DTEND;TZID=America/New_York;VALUE=DATE:20240513
DTSTAMP:20240409T221432Z
URL:https://www.carolinacanoeclub.org/events/novice-whitewater-kayak-clini
 c-bryson-city-area-2/
SUMMARY:Novice Whitewater Kayak Clinic – Bryson City Area
DESCRIPTION:(if page says "Bookings closed" please login first to the websi
 te to enroll)\n\nNovice Whitewater Kayak Clinic\n\nEvent Date: 05/11/2024 
 – 05/12/2024\n\nRegistration Fee: $110\, includes ACA Event Insurance fe
 e.\n\nLocation: Bryson City\, NC area. Most likely venues – Fontana Lake
  and Tuckaseegee River\n\nNovice clinics are targeted at those who have so
 me experience on whitewater and are proficient in flat water\, know basic 
 strokes and can maneuver the boat in Class 1-2 moving water\, and is aimed
  at improving basic skills. Usually\, the first half of the first day is s
 pent either on a lake or flat/moving water reinforcing basic fundamentals.
  This is a time that the instructor uses to assess the class and their ski
 ll level. The second half of the first day then transitions to a Class I-I
 I river\, utilizing the skills practiced on flatwater. The second day is s
 pent on a class I-II or II-III river to allow the students time to practic
 e\, practice\, and then practice some more until these fundamental skills 
 become second nature. Novice clinic students should have experience and be
  comfortable on rivers like the Lower Green\, Middle Haw\, and Tuck Gorge.
  Those with no experience or flatwater experience only should register for
  the beginner clinic.\n\nFor other clinic descriptions – https://www.car
 olinacanoeclub.org/content/paddling-clinics/\n\nMembership in CCC is requi
 red. This clinic is for persons over 18 years of age\, or over 15 years wi
 th a parent attending the clinic (Above 13 years may also be considered on
  a case-by-case basis). CCC is a Paddle America Club insured by the ACA (A
 merican Canoe Association). Registration is non-refundable.\n\nRequirement
 s:\n\nWhitewater boat and gear (minimum boat\, paddle\, pfd\, skirt\, and 
 helmet)\nCompletion of ACA &amp\; CCC waivers (follow-up by Educ. Chair af
 ter initial registration)\nCompletion of questionnaire (follow-up by Educ.
  Chair after initial registration)\nInstructors: To Be Determined\, Class 
 size up to 10 with an ACA certified instructor and Qualified Assistant. Mi
 nimum registration is 3 students for the class to take place.\n\nContact e
 ducation.chair@carolinacanoeclub.org for questions and advice.\n\nAfter st
 arting the registration process\, please complete it by going to Checkout 
 for payment.\n\nRegistration for this class closes on 7th May\, 2024\n\nTh
 is is an ACA Sanctioned Event.\n\n
CATEGORIES:Clinic
END:VEVENT
BEGIN:VTIMEZONE
TZID:America/New_York
X-LIC-LOCATION:America/New_York
BEGIN:DAYLIGHT
DTSTART:20240310T030000
TZOFFSETFROM:-0500
TZOFFSETTO:-0400
TZNAME:EDT
END:DAYLIGHT
END:VTIMEZONE
END:VCALENDAR