BEGIN:VCALENDAR
VERSION:2.0
PRODID:-//wp-events-plugin.com//6.4.7.1//EN
TZID:America/New_York
X-WR-TIMEZONE:America/New_York
BEGIN:VEVENT
UID:3627@carolinacanoeclub.org
DTSTART;TZID=America/New_York;VALUE=DATE:20260822
DTEND;TZID=America/New_York;VALUE=DATE:20260824
DTSTAMP:20260412T110346Z
URL:https://www.carolinacanoeclub.org/events/lower-yough-weekend/
SUMMARY:Lower Yough Weekend
DESCRIPTION:August 22-23\, 2026:  Southern Invasion of Ohiopyle\, PA.\n\nTr
 ip coordinated by Lynn Miller\, Jennifer (Jen) Stockwell\, and Jasmine Elm
 ore.\n\nSaturday\, August 22:  Trip on the Lower Yough\, Class III/III+ - 
 Solid roll required. Pool drop river. Water frequently cold\, even on hot 
 summer days. $10 required (day of - not in advance) for launch/shuttle per
 mit from the park service (cash and credit options). Trip coordinators kno
 w the river well and can provide beta on multiple lines\, if requested. \n
 \nSunday\, August 23: Trip will depend on local water levels.  Maybe a rep
 eat run on the Lower Yough. Possibly Stonycreek Canyon\, if there is a rel
 ease (also class III/III+\, more continuous than Lower Yough). Those looki
 ng for a shorter day could do the Lower Yough loop only. \n\nTrips will be
  a mix of play and river running. We do not plan on bombing the river. Exp
 ect to spend at least 6 hours on the water Saturday. Bring lunch\, snacks\
 , and lots of water.  \n\nMust be a CCC member. Registration required by J
 uly 25\, 2026. The meeting place and time will be communicated after regis
 tration. A group camping option will be available for those interested. Th
 ough small\, Ohiopyle has several great spots to grab a bite to eat. A cou
 ple of our favorites are Twisted Spoke Cafe and Falls City Pub.\n\nPlease 
 be sure to complete the registration by checking out. If you do not\, your
  reservation will not be saved. \n\nReach out to Jen with any questions vi
 a email: diversepaddlesports@gmail.com\n\nThe AW links to the rivers are b
 elow:\n\nLower Yough: https://www.americanwhitewater.org/content/River/vie
 w/river-detail/1687/main\n\nStonycreek (Canyon):  https://www.americanwhit
 ewater.org/content/River/view/river-detail/2843/main\n\n\n\n
CATEGORIES:Trip
END:VEVENT
BEGIN:VTIMEZONE
TZID:America/New_York
X-LIC-LOCATION:America/New_York
BEGIN:DAYLIGHT
DTSTART:20260308T030000
TZOFFSETFROM:-0500
TZOFFSETTO:-0400
TZNAME:EDT
END:DAYLIGHT
END:VTIMEZONE
END:VCALENDAR