BEGIN:VCALENDAR
VERSION:2.0
PRODID:-//wp-events-plugin.com//6.4.7.1//EN
TZID:America/New_York
X-WR-TIMEZONE:America/New_York
BEGIN:VEVENT
UID:3539@carolinacanoeclub.org
DTSTART;TZID=America/New_York:20260427T180000
DTEND;TZID=America/New_York:20260427T191500
DTSTAMP:20260113T164352Z
URL:https://www.carolinacanoeclub.org/events/lenoir-aquatic-center-3-2026-
 04-27/
SUMMARY:Lenoir Aquatic Center
DESCRIPTION:Kayak Roll practices at the Lenoir Aquatic and Fitness Center\n
 Every Monday\, February 2\, 2023 – April 24.\n6:00 pm – 7:15 pm\n\n103
 1 Jim Barger Dr NE\, Lenoir\, NC 28645\n\nThey note they're having a lot o
 f construction\, so you need to enter the building from the back.\nAs alwa
 ys\, not a bad idea to call to confirm: 828-757-2196
CATEGORIES:Roll Practice
END:VEVENT
BEGIN:VTIMEZONE
TZID:America/New_York
X-LIC-LOCATION:America/New_York
BEGIN:DAYLIGHT
DTSTART:20260308T030000
TZOFFSETFROM:-0500
TZOFFSETTO:-0400
TZNAME:EDT
END:DAYLIGHT
END:VTIMEZONE
END:VCALENDAR