BEGIN:VCALENDAR
VERSION:2.0
PRODID:-//wp-events-plugin.com//6.4.7.1//EN
TZID:America/New_York
X-WR-TIMEZONE:America/New_York
BEGIN:VEVENT
UID:2575@carolinacanoeclub.org
DTSTART;TZID=America/New_York;VALUE=DATE:20220917
DTEND;TZID=America/New_York;VALUE=DATE:20220919
DTSTAMP:20220908T213238Z
URL:https://www.carolinacanoeclub.org/events/l4-swiftwater-rescue-skills-c
 ourse/
SUMMARY:L4 SWR Skills Course(Rescheduled)
DESCRIPTION:L4 Swiftwater Rescue Skills Course. (Rescheduled from Aug 20/21
 st)\n\nPlease read the most recent officer report for details on the dates
 .\n\nLocation: Campbell Falls\, Cape Fear River\, Erwin NC (Lunch stop Rap
 id\, Lower Haw River\, Pittsboro NC if Cape Fear River level is too high)\
 n\nLead Instructor: William Holman\n\nSaturday Sept. 17:  0900-1800\n\nDa
 y 1 will also serve as a L3 RSR for anyone looking for just a 1 day basic 
 course.\n\nSunday Sept. 18: 0900-1800\n\nCost: $45\n\nOpen to CCC Members 
 only\n\nVisit the safety page for details on what you can expect in this c
 ourse\n\nMore details will be published approximately 30 days from the sta
 rt of the course.\n\nIf you have any questions please feel free to contact
  me.\n\nThank you\,\n\nWilliam Holman\n\nSafety Chair
CATEGORIES:Clinic
END:VEVENT
BEGIN:VTIMEZONE
TZID:America/New_York
X-LIC-LOCATION:America/New_York
BEGIN:DAYLIGHT
DTSTART:20220313T030000
TZOFFSETFROM:-0500
TZOFFSETTO:-0400
TZNAME:EDT
END:DAYLIGHT
END:VTIMEZONE
END:VCALENDAR