BEGIN:VCALENDAR
VERSION:2.0
PRODID:-//wp-events-plugin.com//6.4.7.1//EN
TZID:America/New_York
X-WR-TIMEZONE:America/New_York
BEGIN:VEVENT
UID:3270@carolinacanoeclub.org
DTSTART;TZID=America/New_York:20250426T090000
DTEND;TZID=America/New_York:20250427T180000
DTSTAMP:20250402T204121Z
URL:https://www.carolinacanoeclub.org/events/l4-swiftwater-rescue-skills-c
 ourse-2-days/
SUMMARY:L4 Swiftwater Rescue Skills Course (2 Days)
DESCRIPTION:Carolina Canoe Club sponsored L4 Swiftwater Rescue Skills Cours
 e (2 Days) for members\n\nLocation: Primary – Cape Fear at Erwin\, Alter
 nate – Haw River at Lunchstop Rapid\n\nDate: April 26th and 27th\, 0900-
 1800 daily\n\nInstructor: William Holman (For course specific questions\, 
 please contact William at williamjh33@gmail.com)\n\nCost: $55\n\nOpen to C
 CC Members only. ACA Membership or $10 ACA Event Fee Required. (CCC Member
 ship is different than ACA Membership and they are not equivalent for the 
 insurance). Online Smart Waiver will need to be signed in advance of the c
 linic.\n\nVisit Safety Page for details on what you can expect in this c
 ourse.\n\nThis course is designed as a short program emphasizing safety\, 
 enjoyment\, and skill development. The skills and knowledge gained can set
  the stage for a lifetime of exploration\, adventures\, a healthy lifestyl
 e\, appreciation of water and the natural world\, lasting memories with fa
 mily and friends\, and a rewarding experience for all.\n\nThis L4 course i
 s designed to teach recognition and avoidance of common river hazards\, ex
 ecution of self-rescue techniques\, and simple rescues for paddlers in dis
 tress. Emphasis is placed both on personal safety and simple\, commonly us
 ed skills. Fundamental and more advanced techniques for dealing with hazar
 ds that carry greater risks for both victim and rescuer\, such as strainer
 s\, rescue vest applications\, entrapments\, and pins also are practiced. 
 Scenarios will provide an opportunity for participants to practice their s
 kills both individually and within a team/group context.\n\nNote: Day one 
 covers the L3 River Safety Rescue skills. Day two covers the L4 Swiftwater
  Rescue skills. There will be an opportunity for people to sign up only fo
 r day one or day two in separate clinic announcements.\n\nThis course is c
 onducted utilizing with ACA Paddlesports certified instructors and ACA Pad
 dlesports curriculum
CATEGORIES:Clinic
END:VEVENT
BEGIN:VTIMEZONE
TZID:America/New_York
X-LIC-LOCATION:America/New_York
BEGIN:DAYLIGHT
DTSTART:20250309T030000
TZOFFSETFROM:-0500
TZOFFSETTO:-0400
TZNAME:EDT
END:DAYLIGHT
END:VTIMEZONE
END:VCALENDAR