BEGIN:VCALENDAR
VERSION:2.0
PRODID:-//wp-events-plugin.com//6.4.7.1//EN
TZID:America/New_York
X-WR-TIMEZONE:America/New_York
BEGIN:VEVENT
UID:3625@carolinacanoeclub.org
DTSTART;TZID=America/New_York;VALUE=DATE:20260822
DTEND;TZID=America/New_York;VALUE=DATE:20260824
DTSTAMP:20260411T141442Z
URL:https://www.carolinacanoeclub.org/events/l4-swiftwater-rescue-skills-c
 ourse-2-days-4/
SUMMARY:L4 Swiftwater Rescue Skills Course (2 Days)
DESCRIPTION:Carolina Canoe Club sponsored L4 Swiftwater Rescue Skills Cours
 e (2 Days) for members\n\nLocation: Primary – Cape Fear at Erwin\, Alter
 nate – Haw River at Lunchstop Rapid\n\nDate: August 22nd and 23rd\, 0900
 -1800 daily\n\nInstructor: William Holman (For course specific questions\,
  please contact William at williamjh33@gmail.com)\n\nCost: $55 ($65 for no
 n ACA members)/ Registration will open July 22nd.\n\nOpen to CCC Members o
 nly. ACA Membership or $10 ACA Event Fee Required. (CCC Membership is diff
 erent than ACA Membership and they are not equivalent for the insurance).\
 n\nVisit Safety Page for details on what you can expect in this course.\
 n\nThis course is designed as a short program emphasizing safety\, enjoyme
 nt\, and skill development. The skills and knowledge gained can set the st
 age for a lifetime of exploration\, adventures\, a healthy lifestyle\, app
 reciation of water and the natural world\, lasting memories with family an
 d friends\, and a rewarding experience for all.\n\nThis L4 course is desig
 ned to teach recognition and avoidance of common river hazards\, execution
  of self-rescue techniques\, and simple rescues for paddlers in distress. 
 Emphasis is placed both on personal safety and simple\, commonly used skil
 ls. Fundamental and more advanced techniques for dealing with hazards that
  carry greater risks for both victim and rescuer\, such as strainers\, res
 cue vest applications\, entrapments\, and pins also are practiced. Scenari
 os will provide an opportunity for participants to practice their skills b
 oth individually and within a team/group context.\n\nNote: Day one covers 
 the L3 River Safety Rescue skills. Day two covers the L4 Swiftwater Rescue
  skills. There will be an opportunity for people to sign up only for day o
 ne or day two in separate clinic announcements.\n\nThis course is conducte
 d utilizing with ACA Paddlesports certified instructors and ACA Paddlespor
 ts curriculum
CATEGORIES:Clinic
END:VEVENT
BEGIN:VTIMEZONE
TZID:America/New_York
X-LIC-LOCATION:America/New_York
BEGIN:DAYLIGHT
DTSTART:20260308T030000
TZOFFSETFROM:-0500
TZOFFSETTO:-0400
TZNAME:EDT
END:DAYLIGHT
END:VTIMEZONE
END:VCALENDAR