BEGIN:VCALENDAR
VERSION:2.0
PRODID:-//wp-events-plugin.com//6.4.7.1//EN
TZID:America/New_York
X-WR-TIMEZONE:America/New_York
BEGIN:VEVENT
UID:3570@carolinacanoeclub.org
DTSTART;TZID=America/New_York;VALUE=DATE:20260425
DTEND;TZID=America/New_York;VALUE=DATE:20260427
DTSTAMP:20260423T104822Z
URL:https://www.carolinacanoeclub.org/events/l4-swiftwater-rescue-skills-c
 ourse-2-days-3/
SUMMARY:L4 Swiftwater Rescue Skills Course (2 Days)
DESCRIPTION:Carolina Canoe Club sponsored L4 Swiftwater Rescue Skills Cours
 e (2 Days) for members\n\nLocation: Primary – Cape Fear at Erwin\, Alter
 nate – Haw River at Lunchstop Rapid\n\nDate: April 25th and 26th\, 0900-
 1800 daily\n\nInstructor: William Holman (For course specific questions\, 
 please contact William at williamjh33@gmail.com)\n\nCost: $55 ($65 for non
  ACA members)/ Registration will open March 15th\n\nOpen to CCC Members on
 ly. ACA Membership or $10 ACA Event Fee Required. (CCC Membership is diffe
 rent than ACA Membership and they are not equivalent for the insurance).\n
 \nVisit Safety Page for details on what you can expect in this course.\n
 \nThis course is designed as a short program emphasizing safety\, enjoymen
 t\, and skill development. The skills and knowledge gained can set the sta
 ge for a lifetime of exploration\, adventures\, a healthy lifestyle\, appr
 eciation of water and the natural world\, lasting memories with family and
  friends\, and a rewarding experience for all.\n\nThis L4 course is design
 ed to teach recognition and avoidance of common river hazards\, execution 
 of self-rescue techniques\, and simple rescues for paddlers in distress. E
 mphasis is placed both on personal safety and simple\, commonly used skill
 s. Fundamental and more advanced techniques for dealing with hazards that 
 carry greater risks for both victim and rescuer\, such as strainers\, resc
 ue vest applications\, entrapments\, and pins also are practiced. Scenario
 s will provide an opportunity for participants to practice their skills bo
 th individually and within a team/group context.\n\nNote: Day one covers t
 he L3 River Safety Rescue skills. Day two covers the L4 Swiftwater Rescue 
 skills. There will be an opportunity for people to sign up only for day on
 e or day two in separate clinic announcements.\n\nThis course is conducted
  utilizing with ACA Paddlesports certified instructors and ACA Paddlesport
 s curriculum
CATEGORIES:Clinic
END:VEVENT
BEGIN:VTIMEZONE
TZID:America/New_York
X-LIC-LOCATION:America/New_York
BEGIN:DAYLIGHT
DTSTART:20260308T030000
TZOFFSETFROM:-0500
TZOFFSETTO:-0400
TZNAME:EDT
END:DAYLIGHT
END:VTIMEZONE
END:VCALENDAR