BEGIN:VCALENDAR
VERSION:2.0
PRODID:-//wp-events-plugin.com//6.4.7.1//EN
TZID:America/New_York
X-WR-TIMEZONE:America/New_York
BEGIN:VEVENT
UID:3273@carolinacanoeclub.org
DTSTART;TZID=America/New_York:20250816T090000
DTEND;TZID=America/New_York:20250817T180000
DTSTAMP:20250721T142305Z
URL:https://www.carolinacanoeclub.org/events/l4-swiftwater-rescue-skills-c
 ourse-2-days-2/
SUMMARY:L4 Swiftwater Rescue Skills Course (2 Days)
DESCRIPTION:Carolina Canoe Club sponsored L4 Swiftwater Rescue Skills Cours
 e (2 Days) for members\n\nLocation: Primary – Cape Fear at Erwin\, Alter
 nate – Haw River at Lunchstop Rapid\n\nDate: August 16th and 17th\, 0900
 -1800 daily\n\nInstructor: William Holman (For course specific questions\,
  please contact William at williamjh33@gmail.com)\n\nCost: $55 / Registra
 tion will open July 15th\n\nOpen to CCC Members only. ACA Membership or $1
 0 ACA Event Fee Required. (CCC Membership is different than ACA Membership
  and they are not equivalent for the insurance). Online Smart Waiver will 
 need to be signed in advance of the clinic.\n\nVisit Safety Page for det
 ails on what you can expect in this course.\n\nThis course is designed as 
 a short program emphasizing safety\, enjoyment\, and skill development. Th
 e skills and knowledge gained can set the stage for a lifetime of explorat
 ion\, adventures\, a healthy lifestyle\, appreciation of water and the nat
 ural world\, lasting memories with family and friends\, and a rewarding ex
 perience for all.\n\nThis L4 course is designed to teach recognition and a
 voidance of common river hazards\, execution of self-rescue techniques\, a
 nd simple rescues for paddlers in distress. Emphasis is placed both on per
 sonal safety and simple\, commonly used skills. Fundamental and more advan
 ced techniques for dealing with hazards that carry greater risks for both 
 victim and rescuer\, such as strainers\, rescue vest applications\, entrap
 ments\, and pins also are practiced. Scenarios will provide an opportunity
  for participants to practice their skills both individually and within a 
 team/group context.\n\nNote: Day one covers the L3 River Safety Rescue ski
 lls. Day two covers the L4 Swiftwater Rescue skills. There will be an oppo
 rtunity for people to sign up only for day one or day two in separate clin
 ic announcements.\n\nThis course is conducted utilizing with ACA Paddlespo
 rts certified instructors and ACA Paddlesports curriculum
CATEGORIES:Clinic
END:VEVENT
BEGIN:VTIMEZONE
TZID:America/New_York
X-LIC-LOCATION:America/New_York
BEGIN:DAYLIGHT
DTSTART:20250309T030000
TZOFFSETFROM:-0500
TZOFFSETTO:-0400
TZNAME:EDT
END:DAYLIGHT
END:VTIMEZONE
END:VCALENDAR