BEGIN:VCALENDAR
VERSION:2.0
PRODID:-//wp-events-plugin.com//6.4.7.1//EN
TZID:America/New_York
X-WR-TIMEZONE:America/New_York
BEGIN:VEVENT
UID:2448@carolinacanoeclub.org
DTSTART;TZID=America/New_York;VALUE=DATE:20210508
DTEND;TZID=America/New_York;VALUE=DATE:20210509
DTSTAMP:20210502T101352Z
URL:https://www.carolinacanoeclub.org/events/l3-safety-and-rescue-skills-c
 ourse/
SUMMARY:L3 River Safety and Rescue Skills course
DESCRIPTION:\n 	L3  River Safety and Rescue Skills Course. (This is a L3 s
 wiftwater rescue class for those not familiar with the terminology)\n\nLoc
 ation: Rock Hill\, SC\n\nInstructors: C.C. Williams\, Francheska Hebden\n\
 nCost: $30 (CCC Members only)\n\nMust be a current CCC member and a curren
 t ACA member or pay an extra $5 for insurance coverage the day of.\n\nThis
  is a skills course set up for the instructor ICW however we will have app
 roximately 4-6 slots open for members to attend the skills course portion 
 on May 8th.\n\nYou can find a sample of what the course will cover at the 
 following link\;\n\nhttps://cdn.ymaws.com/www.americancanoe.org/resource/r
 esmgr/sei-courses/l3_rsr_skills.pdf\n\nYou must have the following to atte
 nd the course: Proper fitted PFD \, helmet\, protective clothing suitable 
 for extended swimming in cold water\,protective footwear\, boat\, paddle\,
  whistle\, throw rope\, 15+ feet of one inch tubular nylon webbing\, and 2
  locking carabiners.\n\nOnce all the slots are filled a more detailed emai
 l will be sent out to all the participants along with a basic information 
 sheet to fill out.  Please let me know if you have any questions and I wi
 ll do my best to answer them or get an answer from the primary instructor.
 \n\nThank you\,\n\nWilliam Holman\n\nSafety Chair\n\nsafety.chair@carolina
 canoeclub.org
CATEGORIES:Clinic
END:VEVENT
BEGIN:VTIMEZONE
TZID:America/New_York
X-LIC-LOCATION:America/New_York
BEGIN:DAYLIGHT
DTSTART:20210314T030000
TZOFFSETFROM:-0500
TZOFFSETTO:-0400
TZNAME:EDT
END:DAYLIGHT
END:VTIMEZONE
END:VCALENDAR