BEGIN:VCALENDAR
VERSION:2.0
PRODID:-//wp-events-plugin.com//6.4.7.1//EN
TZID:America/New_York
X-WR-TIMEZONE:America/New_York
BEGIN:VEVENT
UID:2705@carolinacanoeclub.org
DTSTART;TZID=America/New_York;VALUE=DATE:20220917
DTEND;TZID=America/New_York;VALUE=DATE:20220918
DTSTAMP:20220905T214330Z
URL:https://www.carolinacanoeclub.org/events/l3-rsr/
SUMMARY:L3 RSR
DESCRIPTION:L3 River Safety and Rescue Skills Course.\nTHIS IS DAY 1 OF THE
  SCHEDULED L4 SWIFTWATER RESCUE COURSE!\n\nPLEASE CONTACT ME PRIOR TO REGI
 STERING FOR THIS COURSE!\nLocation: Campbell’s Falls\, Cape Fear River\,
  Erwin NC  (Alt spot will be Lower Haw River at Lunchstop Rapid if level 
 at Campbell’s falls is too high)\nSaturday\, September 17th:  0900-1800
 \nCost: $35\nInstructor:  William Holman\nOpen to all skills levels / CCC
  Members only\nFor more details on what to expect in this course please vi
 sit the Safety Page\nMore details will be emailed to members who have reg
 istered.\nIf you have any questions please feel free to contact me.\nThank
  you\,\nWilliam Holman\nSafety Chair
CATEGORIES:Trip
END:VEVENT
BEGIN:VTIMEZONE
TZID:America/New_York
X-LIC-LOCATION:America/New_York
BEGIN:DAYLIGHT
DTSTART:20220313T030000
TZOFFSETFROM:-0500
TZOFFSETTO:-0400
TZNAME:EDT
END:DAYLIGHT
END:VTIMEZONE
END:VCALENDAR