BEGIN:VCALENDAR
VERSION:2.0
PRODID:-//wp-events-plugin.com//6.4.7.1//EN
TZID:America/New_York
X-WR-TIMEZONE:America/New_York
BEGIN:VEVENT
UID:3271@carolinacanoeclub.org
DTSTART;TZID=America/New_York:20250427T090000
DTEND;TZID=America/New_York:20250427T180000
DTSTAMP:20250402T204158Z
URL:https://www.carolinacanoeclub.org/events/l3-rsr-to-l4-swiftwater-rescu
 e-skills-course-upgrade/
SUMMARY:L3 RSR to L4 Swiftwater Rescue Skills Course Upgrade
DESCRIPTION:L3 River Safety and Rescue to L4 Swiftwater Rescue Upgrade Cour
 se\n\nOne day course for anyone who attended the L3 course on June 1\, 202
 4\, or any of William Holman’s L3 classes since 2023.\n\nLocation: Prima
 ry – Cape Fear at Erwin\, Alternate – Haw River at Lunchstop Rapid\n\n
 Date: April 27th\, 2025: 0900-1800\n\nInstructor: William Holman (For cour
 se specific questions\, please contact William at williamjh33@gmail.com)\n
 \nCost: $10 / Registration will open on April 4th\n\nOpen to CCC Members o
 nly. ACA Membership or $10 ACA Event Fee Required. (CCC Membership is diff
 erent than ACA Membership and they are not equivalent for the insurance). 
 Online Smart Waiver will need to be signed in advance of the clinic.\n\nVi
 sit Safety Page for details on what you can expect in this course.\n\nTh
 is course is designed as a short program emphasizing safety\, enjoyment\, 
 and skill development. The skills and knowledge gained can set the stage f
 or a lifetime of exploration\, adventures\, a healthy lifestyle\, apprecia
 tion of water and the natural world\, lasting memories with family and fri
 ends\, and a rewarding experience for all.\n\nThis L4 course is designed t
 o teach recognition and avoidance of common river hazards\, execution of s
 elf-rescue techniques\, and simple rescues for paddlers in distress. Empha
 sis is placed both on personal safety and simple\, commonly used skills. F
 undamental and more advanced techniques for dealing with hazards that carr
 y greater risks for both victim and rescuer\, such as strainers\, rescue v
 est applications\, entrapments\, and pins also are practiced. Scenarios wi
 ll provide an opportunity for participants to practice their skills both i
 ndividually and within a team/group context.\n\nNote: This is being held i
 n conjunction with the full L4 Swiftwater Rescue class. Day one covers the
  L3 River Safety Rescue skills. Day two covers the L4 Swiftwater Rescue sk
 ills.\n\nThis course is conducted utilizing with ACA Paddlesports certifie
 d instructors and ACA Paddlesports curriculum
CATEGORIES:Clinic
END:VEVENT
BEGIN:VTIMEZONE
TZID:America/New_York
X-LIC-LOCATION:America/New_York
BEGIN:DAYLIGHT
DTSTART:20250309T030000
TZOFFSETFROM:-0500
TZOFFSETTO:-0400
TZNAME:EDT
END:DAYLIGHT
END:VTIMEZONE
END:VCALENDAR