BEGIN:VCALENDAR
VERSION:2.0
PRODID:-//wp-events-plugin.com//6.4.7.1//EN
TZID:America/New_York
X-WR-TIMEZONE:America/New_York
BEGIN:VEVENT
UID:3572@carolinacanoeclub.org
DTSTART;TZID=America/New_York;VALUE=DATE:20260426
DTEND;TZID=America/New_York;VALUE=DATE:20260427
DTSTAMP:20260218T110055Z
URL:https://www.carolinacanoeclub.org/events/l3-rsr-to-l4-swiftwater-rescu
 e-skills-course-upgrade-3/
SUMMARY:L3 RSR to L4 Swiftwater Rescue Skills Course (1 Day)
DESCRIPTION:L3 River Safety and Rescue to L4 Swiftwater Rescue Upgrade Cour
 se\n\nOne day course for anyone who attended the L3 course on June 1\, 202
 4\, or any of William Holman’s L3 classes since 2023.\n\nLocation: Prima
 ry – Cape Fear at Erwin\, Alternate – Haw River at Lunchstop Rapid\n\n
 Date: April 26th\, 0900-1800\n\nInstructor: William Holman (For course spe
 cific questions\, please contact William at williamjh33@gmail.com)\n\nCost
 : $10 ($20 for non ACA Members)/ Registration will open on March 15th\n\nO
 pen to CCC Members only. ACA Membership or $10 ACA Event Fee Required. (CC
 C Membership is different than ACA Membership and they are not equivalent 
 for the insurance).\n\nVisit Safety Page for details on what you can exp
 ect in this course.\n\nThis course is designed as a short program emphasiz
 ing safety\, enjoyment\, and skill development. The skills and knowledge g
 ained can set the stage for a lifetime of exploration\, adventures\, a hea
 lthy lifestyle\, appreciation of water and the natural world\, lasting mem
 ories with family and friends\, and a rewarding experience for all.\n\nThi
 s L4 course is designed to teach recognition and avoidance of common river
  hazards\, execution of self-rescue techniques\, and simple rescues for pa
 ddlers in distress. Emphasis is placed both on personal safety and simple\
 , commonly used skills. Fundamental and more advanced techniques for deali
 ng with hazards that carry greater risks for both victim and rescuer\, suc
 h as strainers\, rescue vest applications\, entrapments\, and pins also ar
 e practiced. Scenarios will provide an opportunity for participants to pra
 ctice their skills both individually and within a team/group context.\n\nN
 ote: This is being held in conjunction with the full L4 Swiftwater Rescue 
 class. Day one covers the L3 River Safety Rescue skills. Day two covers th
 e L4 Swiftwater Rescue skills.\n\nThis course is conducted utilizing with 
 ACA Paddlesports certified instructors and ACA Paddlesports curriculum
CATEGORIES:Clinic
END:VEVENT
BEGIN:VTIMEZONE
TZID:America/New_York
X-LIC-LOCATION:America/New_York
BEGIN:DAYLIGHT
DTSTART:20260308T030000
TZOFFSETFROM:-0500
TZOFFSETTO:-0400
TZNAME:EDT
END:DAYLIGHT
END:VTIMEZONE
END:VCALENDAR