BEGIN:VCALENDAR
VERSION:2.0
PRODID:-//wp-events-plugin.com//6.4.7.1//EN
TZID:America/New_York
X-WR-TIMEZONE:America/New_York
BEGIN:VEVENT
UID:2573@carolinacanoeclub.org
DTSTART;TZID=America/New_York;VALUE=DATE:20220604
DTEND;TZID=America/New_York;VALUE=DATE:20220605
DTSTAMP:20220118T222114Z
URL:https://www.carolinacanoeclub.org/events/l3-river-safety-and-rescue-sk
 ills-course/
SUMMARY:L3 River Safety and Rescue Skills Course
DESCRIPTION:L3 River Safety and Rescue Skills Course.\n\nLocation: TBD (Mos
 t likely Cape Fear River at Erwin or Lower Haw River at Lunchstop Rapid)\n
 \nSaturday June 4th:  0900-1800\n\nInstructors:  Chris Mattox\n\nCost: $
 35\n\nOpen to all skills levels\n\nSlot availability will be announced 30 
 days prior to class (Instructor availability determines number of slots)\n
 \nThese dates are placeholders for this course in order to allow possible 
 participants time to plan accordingly for it.  More details will be publi
 shed approximately 90 days from the start of the course.\n\nIf you have an
 y questions please feel free to contact me.\n\nThank you\,\n\nWilliam Holm
 an\n\nSafety Chair\n\n&nbsp\;\n\n&nbsp\;\n\n&nbsp\;
CATEGORIES:Clinic
END:VEVENT
BEGIN:VTIMEZONE
TZID:America/New_York
X-LIC-LOCATION:America/New_York
BEGIN:DAYLIGHT
DTSTART:20220313T030000
TZOFFSETFROM:-0500
TZOFFSETTO:-0400
TZNAME:EDT
END:DAYLIGHT
END:VTIMEZONE
END:VCALENDAR