BEGIN:VCALENDAR
VERSION:2.0
PRODID:-//wp-events-plugin.com//6.4.7.1//EN
TZID:America/New_York
X-WR-TIMEZONE:America/New_York
BEGIN:VEVENT
UID:2906@carolinacanoeclub.org
DTSTART;TZID=America/New_York;VALUE=DATE:20230729
DTEND;TZID=America/New_York;VALUE=DATE:20230730
DTSTAMP:20230725T003656Z
URL:https://www.carolinacanoeclub.org/events/l3-river-safety-and-rescue-sk
 ills-course-7/
SUMMARY:L3 River Safety and Rescue Skills Course
DESCRIPTION:**Cancelled due to low registration**\n\nL3 River Safety and Re
 scue Skills Course\n\nLocation: Tentative – Haw River at Highway 64 (Lun
 ch Stop Rapid)\, Subject to change based on water levels\n\nDate: July 29\
 , 0900-1800\n\nInstructor: Chris Mattox\n\nCost: $45\n\nOpen to CCC Member
 s only. ACA Membership or $10 ACA Event Fee Required. Online Smart Waiver 
 will need to be signed in advance of the clinic.\n\nVisit Safety Page for 
 details on what you can expect in this course.\n\nThis course is designed 
 as a short program emphasizing safety\, enjoyment\, and skill development.
  The skills and knowledge gained can set the stage for a lifetime of explo
 ration\, adventures\, a healthy lifestyle\, appreciation of water and the 
 natural world\, lasting memories with family and friends\, and a rewarding
  experience for all.\n\nThis L3 RSR course is designed to teach recognitio
 n and avoidance of common river hazards\, execution of self-rescue techniq
 ues\, and simple rescues for paddlers in distress. Emphasis is placed both
  on personal safety and simple\, commonly used skills. This course is aime
 d at whitewater boaters interested in learning fundamental river rescue sk
 ills\, such as wading\, throw ropes\, swimming\, rigging and craft-based r
 escue.\n\nNote: This is being held in conjunction with the L4 Swiftwater R
 escue class. Day one covers the L3 River Safety Rescue skills. Day two cov
 ers the L4 Swiftwater Rescue skills.\n\nConducted in Partnership with ACA 
 | Canoe – Kayak – SUP – Raft – Rescue
CATEGORIES:Clinic
END:VEVENT
BEGIN:VTIMEZONE
TZID:America/New_York
X-LIC-LOCATION:America/New_York
BEGIN:DAYLIGHT
DTSTART:20230312T030000
TZOFFSETFROM:-0500
TZOFFSETTO:-0400
TZNAME:EDT
END:DAYLIGHT
END:VTIMEZONE
END:VCALENDAR