BEGIN:VCALENDAR
VERSION:2.0
PRODID:-//wp-events-plugin.com//6.4.7.1//EN
TZID:America/New_York
X-WR-TIMEZONE:America/New_York
BEGIN:VEVENT
UID:2574@carolinacanoeclub.org
DTSTART;TZID=America/New_York;VALUE=DATE:20220806
DTEND;TZID=America/New_York;VALUE=DATE:20220807
DTSTAMP:20220803T222508Z
URL:https://www.carolinacanoeclub.org/events/l3-river-safety-and-rescue-sk
 ills-course-2/
SUMMARY:L3 River Safety and Rescue Skills Course
DESCRIPTION:L3 River Safety and Rescue Skills Course.\n\nLocation: Campbell
 's Falls\, Cape Fear River\, Erwin NC  (Alt spot will be Lower Haw River 
 at Lunchstop Rapid if level at Campbell's falls is too high)\n\nSaturday A
 ugust 6th:  0900-1800\n\nCost: $35\n\nInstructor:  William Holman\n\nOpe
 n to all skills levels / CCC Members only\n\nFor more details on what to e
 xpect in this course please visit the Safety Page\n\nMore details will be 
 published approximately 30 days from the start of the course.\n\nIf you ha
 ve any questions please feel free to contact me.\n\nThank you\,\n\nWilliam
  Holman\n\nSafety Chair
CATEGORIES:Clinic
END:VEVENT
BEGIN:VTIMEZONE
TZID:America/New_York
X-LIC-LOCATION:America/New_York
BEGIN:DAYLIGHT
DTSTART:20220313T030000
TZOFFSETFROM:-0500
TZOFFSETTO:-0400
TZNAME:EDT
END:DAYLIGHT
END:VTIMEZONE
END:VCALENDAR