BEGIN:VCALENDAR
VERSION:2.0
PRODID:-//wp-events-plugin.com//6.4.7.1//EN
TZID:America/New_York
X-WR-TIMEZONE:America/New_York
BEGIN:VEVENT
UID:3269@carolinacanoeclub.org
DTSTART;TZID=America/New_York:20250426T090000
DTEND;TZID=America/New_York:20250426T180000
DTSTAMP:20250402T204140Z
URL:https://www.carolinacanoeclub.org/events/l3-river-safety-and-rescue-sk
 ills-course-10/
SUMMARY:L3 River Safety and Rescue Skills Course (1 Day)
DESCRIPTION:Carolina Canoe Club Sponsored L3 River Safety and Rescue Skills
  Course for members\n\nLocation: Primary – Cape Fear at Erwin\, Alternat
 e – Haw River at Lunchstop Rapid\n\nDate: April 26th\, 2025: 0900-1800\n
 \nInstructor: William Holman (For course specific questions\, please conta
 ct William at williamjh33@gmail.com)\n\nCost: $45\n\nOpen to CCC Members o
 nly. ACA Membership or $10 ACA Event Fee Required (CCC Membership is diffe
 rent than ACA Membership and they are not equivalent for the insurance). O
 nline Smart Waiver will need to be signed in advance of the clinic.\n\nVis
 it Safety Page for details on what you can expect in this course.\n\nThi
 s course is designed as a short program emphasizing safety\, enjoyment\, a
 nd skill development. The skills and knowledge gained can set the stage fo
 r a lifetime of exploration\, adventures\, a healthy lifestyle\, appreciat
 ion of water and the natural world\, lasting memories with family and frie
 nds\, and a rewarding experience for all.\n\nThis L3 RSR course is designe
 d to teach recognition and avoidance of common river hazards\, execution o
 f self-rescue techniques\, and simple rescues for paddlers in distress. Em
 phasis is placed both on personal safety and simple\, commonly used skills
 . This course is aimed at whitewater boaters interested in learning fundam
 ental river rescue skills\, such as wading\, throw ropes\, swimming\, rigg
 ing and craft-based rescue.\n\nNote: This is being held in conjunction wit
 h the L4 Swiftwater Rescue class. Day one covers the L3 River Safety Rescu
 e skills. Day two covers the L4 Swiftwater Rescue skills.\n\nThis course i
 s conducted utilizing with ACA Paddlesports certified instructors and ACA 
 Paddlesports curriculum
CATEGORIES:Clinic
END:VEVENT
BEGIN:VTIMEZONE
TZID:America/New_York
X-LIC-LOCATION:America/New_York
BEGIN:DAYLIGHT
DTSTART:20250309T030000
TZOFFSETFROM:-0500
TZOFFSETTO:-0400
TZNAME:EDT
END:DAYLIGHT
END:VTIMEZONE
END:VCALENDAR