BEGIN:VCALENDAR
VERSION:2.0
PRODID:-//wp-events-plugin.com//6.4.7.1//EN
TZID:America/New_York
X-WR-TIMEZONE:America/New_York
BEGIN:VEVENT
UID:3274@carolinacanoeclub.org
DTSTART;TZID=America/New_York:20250816T090000
DTEND;TZID=America/New_York:20250816T180000
DTSTAMP:20250721T142216Z
URL:https://www.carolinacanoeclub.org/events/l3-river-safety-and-rescue-sk
 ills-course-1-day/
SUMMARY:L3 River Safety and Rescue Skills Course (1 Day)
DESCRIPTION:Carolina Canoe Club Sponsored L3 River Safety and Rescue Skills
  Course for members\n\nLocation: Primary – Cape Fear at Erwin\, Alternat
 e – Haw River at Lunchstop Rapid\n\nDate: August 16th\, 2025: 0900-1800\
 n\nInstructor: William Holman (For course specific questions\, please cont
 act William at williamjh33@gmail.com)\n\nCost: $45 /Registration will open
  on July 15th\n\nOpen to CCC Members only. ACA Membership or $10 ACA Event
  Fee Required (CCC Membership is different than ACA Membership and they ar
 e not equivalent for the insurance). Online Smart Waiver will need to be s
 igned in advance of the clinic.\n\nVisit Safety Page for details on what
  you can expect in this course.\n\nThis course is designed as a short prog
 ram emphasizing safety\, enjoyment\, and skill development. The skills and
  knowledge gained can set the stage for a lifetime of exploration\, advent
 ures\, a healthy lifestyle\, appreciation of water and the natural world\,
  lasting memories with family and friends\, and a rewarding experience for
  all.\n\nThis L3 RSR course is designed to teach recognition and avoidance
  of common river hazards\, execution of self-rescue techniques\, and simpl
 e rescues for paddlers in distress. Emphasis is placed both on personal sa
 fety and simple\, commonly used skills. This course is aimed at whitewater
  boaters interested in learning fundamental river rescue skills\, such as 
 wading\, throw ropes\, swimming\, rigging and craft-based rescue.\n\nNote:
  This is being held in conjunction with the L4 Swiftwater Rescue class. Da
 y one covers the L3 River Safety Rescue skills. Day two covers the L4 Swif
 twater Rescue skills.\n\nThis course is conducted utilizing with ACA Paddl
 esports certified instructors and ACA Paddlesports curriculum
CATEGORIES:Clinic
END:VEVENT
BEGIN:VTIMEZONE
TZID:America/New_York
X-LIC-LOCATION:America/New_York
BEGIN:DAYLIGHT
DTSTART:20250309T030000
TZOFFSETFROM:-0500
TZOFFSETTO:-0400
TZNAME:EDT
END:DAYLIGHT
END:VTIMEZONE
END:VCALENDAR