BEGIN:VCALENDAR
VERSION:2.0
PRODID:-//wp-events-plugin.com//6.4.7.1//EN
TZID:America/New_York
X-WR-TIMEZONE:America/New_York
BEGIN:VEVENT
UID:3571@carolinacanoeclub.org
DTSTART;TZID=America/New_York;VALUE=DATE:20260425
DTEND;TZID=America/New_York;VALUE=DATE:20260426
DTSTAMP:20260419T162317Z
URL:https://www.carolinacanoeclub.org/events/l3-river-safety-and-rescue-sk
 ills-course-1-day-2/
SUMMARY:L3 River Safety and Rescue Skills Course (1 Day)
DESCRIPTION:Carolina Canoe Club Sponsored L3 River Safety and Rescue Skills
  Course for members\n\nLocation: Primary – Cape Fear at Erwin\, Alternat
 e – Haw River at Lunchstop Rapid\n\nDate: April 25th\, 0900-1800\n\nInst
 ructor: William Holman (For course specific questions\, please contact Wil
 liam at williamjh33@gmail.com)\n\nCost: $45 ($55 for non ACA members) /Reg
 istration will open on March 15th\n\nOpen to CCC Members only. ACA Members
 hip or $10 ACA Event Fee Required (CCC Membership is different than ACA Me
 mbership and they are not equivalent for the insurance).\n\nVisit Safety 
 Page for details on what you can expect in this course.\n\nThis course is
  designed as a short program emphasizing safety\, enjoyment\, and skill de
 velopment. The skills and knowledge gained can set the stage for a lifetim
 e of exploration\, adventures\, a healthy lifestyle\, appreciation of wate
 r and the natural world\, lasting memories with family and friends\, and a
  rewarding experience for all.\n\nThis L3 RSR course is designed to teach 
 recognition and avoidance of common river hazards\, execution of self-resc
 ue techniques\, and simple rescues for paddlers in distress. Emphasis is p
 laced both on personal safety and simple\, commonly used skills. This cour
 se is aimed at whitewater boaters interested in learning fundamental river
  rescue skills\, such as wading\, throw ropes\, swimming\, rigging and cra
 ft-based rescue.\n\nNote: This is being held in conjunction with the L4 Sw
 iftwater Rescue class. Day one covers the L3 River Safety Rescue skills. D
 ay two covers the L4 Swiftwater Rescue skills.\n\nThis course is conducted
  utilizing with ACA Paddlesports certified instructors and ACA Paddlesport
 s curriculum
CATEGORIES:Clinic
END:VEVENT
BEGIN:VTIMEZONE
TZID:America/New_York
X-LIC-LOCATION:America/New_York
BEGIN:DAYLIGHT
DTSTART:20260308T030000
TZOFFSETFROM:-0500
TZOFFSETTO:-0400
TZNAME:EDT
END:DAYLIGHT
END:VTIMEZONE
END:VCALENDAR