BEGIN:VCALENDAR
VERSION:2.0
PRODID:-//wp-events-plugin.com//6.4.7.1//EN
TZID:America/New_York
X-WR-TIMEZONE:America/New_York
BEGIN:VEVENT
UID:2631@carolinacanoeclub.org
DTSTART;TZID=America/New_York:20220219T120000
DTEND;TZID=America/New_York:20220219T150000
DTSTAMP:20220128T172852Z
URL:https://www.carolinacanoeclub.org/events/kayak-pool-session-2/
SUMMARY:Kayak Pool Session
DESCRIPTION:Pool Sessions for the Winter of 2022--- https://greatoutdoorp
 rovision.com/event/kayak-pool-session/\n\nWhere: Fulton YMCA\, 385 West Ha
 nes Mill Rd. Winston-Salem\, NC 27105: Come around the left side of the bu
 ilding\n\nWhen: 12pm to 3pm on the below mentioned Saturdays. Can come at 
 11:30am to start cleaning boats\n\nActivity: Bring your own (clean) Boat f
 or time to practice skills in warm water with friends. GOPC staff and/or v
 olunteer instructors will offer assistance on skills such as rolling but t
 his is not a structured class- it’s better. We have the whole pool so th
 ere is room to spread out. The hot tub\, however\, is unavailable.\n\nFAQs
 :\n\n-No pre-registration\, just show up.  Sign in and pay at the door. 
  You can pay for all 4 sessions if you would like to\, (or however many yo
 u think you’ll make)\, or you can simply pay each time at the door.\n-Pl
 ease wear a mask when not in the pool.\n-We will have the hose available t
 o clean boats.\n-We won’t have any demo boats this year due to the natio
 nal shortage\, but we will have a few paddles.\n-Though the hot tub will b
 e closed\, the locker rooms are open.\n\n&nbsp\;\n\nCost: STILL $10. All p
 roceeds go to sustaining program.
CATEGORIES:Roll Practice
END:VEVENT
BEGIN:VTIMEZONE
TZID:America/New_York
X-LIC-LOCATION:America/New_York
BEGIN:STANDARD
DTSTART:20211107T010000
TZOFFSETFROM:-0400
TZOFFSETTO:-0500
TZNAME:EST
END:STANDARD
END:VTIMEZONE
END:VCALENDAR