BEGIN:VCALENDAR
VERSION:2.0
PRODID:-//wp-events-plugin.com//6.4.7.1//EN
TZID:America/New_York
X-WR-TIMEZONE:America/New_York
BEGIN:VEVENT
UID:3057@carolinacanoeclub.org
DTSTART;TZID=America/New_York;VALUE=DATE:20240511
DTEND;TZID=America/New_York;VALUE=DATE:20240513
DTSTAMP:20240409T221235Z
URL:https://www.carolinacanoeclub.org/events/intermediate-whitewater-kayak
 -clinic-asheville-nc-area/
SUMMARY:Intermediate Whitewater Kayak Clinic - Asheville\, NC area
DESCRIPTION:(if page says "Bookings closed" please login first to the websi
 te to enroll)\n\nIntermediate Whitewater Kayak Clinic\n\nEvent Date: 05/11
 /2024 – 05/12/2024\n\nRegistration Fee: $110\, includes ACA Event Insura
 nce fee.\n\nLocation: Asheville\, NC area and north. Most likely venues 
 – French Broad\, Pigeon\, Lower Nolichucky\, Toe River\n\nIntermediate c
 linics are targeted at those who have experience and are comfortable on wh
 itewater\, know eddy turns and peel outs and are proficient on class 2-3 r
 ivers. Kayakers and C1 paddlers at this level have a reliable whitewater r
 oll and can help rescue others on class 2-3 rivers. The format of intermed
 iate clinics varies a bit. On the first day\, some classes may spend time 
 on flatwater reinforcing skills\, while other classes may head straight to
  a Class II-III river. The second day of the clinic is typically spent on 
 a Class II-III river. Intermediate clinics work to strengthen fundamental 
 skills such as forward strokes\, sweeps\, draws\, prys\, eddy turns and pe
 els outs. In addition\, intermediate clinics often start the introduction 
 of advanced and compound strokes and maneuvers such as bow draws into forw
 ard strokes\, basic surfing\, use of rocks\, and other fun stuff. Intermed
 iate clinic students should have quite a bit of experience and be comforta
 ble on rivers like the Lower Haw below 2\,500 cfs\, the Nantahala\, or Pig
 eon Gorge.\n\nFor other clinic descriptions – https://www.carolinacanoec
 lub.org/content/paddling-clinics/\n\nMembership in CCC is required. This c
 linic is for persons over 18 years of age\, or over 15 years with a parent
  attending the clinic (Above 13 years may also be considered on a case-by-
 case basis). CCC is a Paddle America Club insured by the ACA (American Can
 oe Association). Registration is non-refundable.\n\nRequirements:\n\nWhite
 water boat and gear (minimum boat\, paddle\, pfd\, skirt\, and helmet)\nCo
 mpletion of ACA &amp\; CCC waivers (follow-up by Educ. Chair after initial
  registration)\nCompletion of questionnaire (follow-up by Educ. Chair afte
 r initial registration)\nInstructors: To Be Determined\, Class size up to 
 10 with an ACA certified instructor and Qualified Assistant. Minimum regis
 tration is 3 students for the class to take place.\n\nContact education.ch
 air@carolinacanoeclub.org for questions and advice.\n\nAfter starting the 
 registration process\, please complete it by going to Checkout for payment
 .\n\nRegistration for this class closes on 7th May\, 2024\n\nThis is an AC
 A Sanctioned Event.\n\n
CATEGORIES:Clinic
END:VEVENT
BEGIN:VTIMEZONE
TZID:America/New_York
X-LIC-LOCATION:America/New_York
BEGIN:DAYLIGHT
DTSTART:20240310T030000
TZOFFSETFROM:-0500
TZOFFSETTO:-0400
TZNAME:EDT
END:DAYLIGHT
END:VTIMEZONE
END:VCALENDAR