BEGIN:VCALENDAR
VERSION:2.0
PRODID:-//wp-events-plugin.com//6.4.7.1//EN
TZID:America/New_York
X-WR-TIMEZONE:America/New_York
BEGIN:VEVENT
UID:3554@carolinacanoeclub.org
DTSTART;TZID=America/New_York;VALUE=DATE:20260502
DTEND;TZID=America/New_York;VALUE=DATE:20260504
DTSTAMP:20260213T144943Z
URL:https://www.carolinacanoeclub.org/events/intermediate-ii/
SUMMARY:Intermediate II Whitewater Kayak
DESCRIPTION:This clinic is designed for paddlers who are already comfortabl
 e paddling Class III whitewater and want to improve the quality of their p
 addling. Emphasis will be on making lines cleaner\, decisions more intenti
 onal\, and movement through rapids more composed.\n\nLocation: French Broa
 d\, Section IX\n\nClass Size: 10 Students\n\nYou may be ready for an Inter
 mediate II clinic if you:\n\n 	Paddle downriver on Class III with confide
 nce and control\n 	Can catch eddies and perform peel outs reliably in curr
 ent\n 	Have a reliable combat roll in Class III conditions\n 	Can paddle c
 ontinuously while adjusting lines and responding to river features\n\nWhat
  You’ll Work On\n\nIntermediate II clinics focus on refining fundamental
  skills and applying them more precisely in Class III whitewater.\n\nInstr
 uction commonly includes:\n\n 	Cleaner\, more efficient boat control\n 	Ma
 naging speed and momentum through longer rapids\n 	Linking eddy turns\, fe
 rries\, and direction changes\n 	Improved edge control and dynamic stabili
 ty\n 	Reading water and planning lines through continuous features\n\nWhat
  to Expect\n\nClinic formats vary based on the river and the group. Most i
 nstruction takes place on the river\, with coaching layered in as paddlers
  move through rapids and features.\n\nTime is spent primarily on Class III
  sections\, with an emphasis on continuous paddling\, efficiency\, and mai
 ntaining composure in more complex water.\n\nTypical Rivers\n\nIntermediat
 e II clinics are often held on rivers such as:\n\n 	Pigeon Gorge\n 	French
  Broad Section IX\n 	Middle Ocoee\n\nParticipants Leave Better Prepared to
 :\n\n 	Paddle Class III rivers with increased precision and composure\n 	L
 ink moves and manage speed and momentum through longer rapids\n 	Make clea
 ner line choices and adjust plans while in motion\n 	Maintain control and 
 awareness in more continuous or complex Class III water\n
CATEGORIES:Clinic
END:VEVENT
BEGIN:VTIMEZONE
TZID:America/New_York
X-LIC-LOCATION:America/New_York
BEGIN:DAYLIGHT
DTSTART:20260308T030000
TZOFFSETFROM:-0500
TZOFFSETTO:-0400
TZNAME:EDT
END:DAYLIGHT
END:VTIMEZONE
END:VCALENDAR