BEGIN:VCALENDAR
VERSION:2.0
PRODID:-//wp-events-plugin.com//6.4.7.1//EN
TZID:America/New_York
X-WR-TIMEZONE:America/New_York
BEGIN:VEVENT
UID:3469@carolinacanoeclub.org
DTSTART;TZID=America/New_York:20251206T130000
DTEND;TZID=America/New_York:20251206T153000
DTSTAMP:20251110T235203Z
URL:https://www.carolinacanoeclub.org/events/holiday-party-potluck/
SUMMARY:Holiday Party Potluck
DESCRIPTION:This year’s CCC membership Holiday meeting/party/pot luck wil
 l be on Saturday December 6th at 1:00 pm in Greensboro.\n\nLocation is aga
 in the awesome Get Outdoors Pedal and Paddle! (1515 West Gate City Blvd.\,
  Greensboro NC 27403)\n\nBring some food\, bring yourself and have a blast
 !\n\nCheers!
CATEGORIES:CCC Activity
END:VEVENT
BEGIN:VTIMEZONE
TZID:America/New_York
X-LIC-LOCATION:America/New_York
BEGIN:STANDARD
DTSTART:20251102T010000
TZOFFSETFROM:-0400
TZOFFSETTO:-0500
TZNAME:EST
END:STANDARD
END:VTIMEZONE
END:VCALENDAR