BEGIN:VCALENDAR
VERSION:2.0
PRODID:-//wp-events-plugin.com//6.4.7.1//EN
TZID:America/New_York
X-WR-TIMEZONE:America/New_York
BEGIN:VEVENT
UID:2833@carolinacanoeclub.org
DTSTART;TZID=America/New_York:20230318T090000
DTEND;TZID=America/New_York:20230318T130000
DTSTAMP:20230119T220144Z
URL:https://www.carolinacanoeclub.org/events/haw-river-clean-up-3/
SUMMARY:Haw River Clean-Up
DESCRIPTION:It is time again for our Annual Haw River Clean-Up in partnersh
 ip with the Haw River Assembly.\n\nThe clean-up will take place\, Saturday
 \, March 18\, 2023.  We will rally in the morning at the Robeson Creek Ca
 noe Access and likely split up to different locations on the middle and lo
 wer sections of the Haw River in Chatham County.\n\nThe Haw River Assembly
  will have many land-based teams and the CCC can be most effective when we
  are able to get trash via boats on the river.  Canoes and rafts are idea
 l if you have them\, but any kind of boat is helpful.\n\nThe club will pro
 vide bags\, gloves and trash grabbers\; We need you to bring energy and tr
 ash hauling boats!\n\nTo sign up or for more information\, contact Shane B
 rown at conservation.chair@carolinacanoeclub.org\n\nhttps://www.facebook.c
 om/events/1783409062060715/?ref=newsfeed
CATEGORIES:Cleanup
END:VEVENT
BEGIN:VTIMEZONE
TZID:America/New_York
X-LIC-LOCATION:America/New_York
BEGIN:DAYLIGHT
DTSTART:20230312T030000
TZOFFSETFROM:-0500
TZOFFSETTO:-0400
TZNAME:EDT
END:DAYLIGHT
END:VTIMEZONE
END:VCALENDAR