BEGIN:VCALENDAR
VERSION:2.0
PRODID:-//wp-events-plugin.com//6.4.7.1//EN
TZID:America/New_York
X-WR-TIMEZONE:America/New_York
BEGIN:VEVENT
UID:3629@carolinacanoeclub.org
DTSTART;TZID=America/New_York;VALUE=DATE:20260425
DTEND;TZID=America/New_York;VALUE=DATE:20260426
DTSTAMP:20260421T212535Z
URL:https://www.carolinacanoeclub.org/events/french-broad-nine/
SUMMARY:French Broad Nine
DESCRIPTION:French Broad Nine (FB9) on Saturday\, April the 25th. Plan is t
 o meet up at Barnard at 11:00\, then run shuttle to the take out at Stackh
 ouse.\n\nJoiners are welcome. Paddlers are encouraged to have a roll or be
  able to assist in their own rescue. The river is wide so swims can be lon
 g. Please review the information from American Whitewater if you are not f
 amiliar with this river.\n\nhttps://www.americanwhitewater.org/content/Riv
 er/view/river-detail/1074/main\n\nFeel free to reach out if you have any q
 uestions. And if you plan on attending\, please contact me via text or ema
 il - scotthenryschilling@gmail.com or 225-610-5710 (text preferred).\n\nS
 YOTR - Scott Schilling\n\n&nbsp\;
CATEGORIES:Trip
END:VEVENT
BEGIN:VTIMEZONE
TZID:America/New_York
X-LIC-LOCATION:America/New_York
BEGIN:DAYLIGHT
DTSTART:20260308T030000
TZOFFSETFROM:-0500
TZOFFSETTO:-0400
TZNAME:EDT
END:DAYLIGHT
END:VTIMEZONE
END:VCALENDAR