BEGIN:VCALENDAR
VERSION:2.0
PRODID:-//wp-events-plugin.com//6.4.7.1//EN
TZID:America/New_York
X-WR-TIMEZONE:America/New_York
BEGIN:VEVENT
UID:477@carolinacanoeclub.org
DTSTART;TZID=America/New_York:20191207T130000
DTEND;TZID=America/New_York:20191207T130000
DTSTAMP:20201103T202849Z
URL:https://www.carolinacanoeclub.org/events/flotilla-event-cliffs-neuse-s
 tate-park/
SUMMARY:Flotilla event at Cliffs of the Neuse State Park
DESCRIPTION:We at Cliffs of the Neuse State Park would like to event your m
 embers to participate in our annual Christmas Flotilla on Dec. 7th. Partic
 ipants are asked to decorate their canoes or kayaks with Christmas lights 
 and paddle around the lake in a parade fashion. This event is FREE. To sig
 n up or should you have any questions please call the park office: 919-778
 -6234.\nDaytime Festivities from 1:00pm-4:00pm\nEvening Festivities begin 
 @ 6:00pm\nFlotilla @ 7:30pm\nFlotilla is open to the public!\nNon-gas powe
 red boats\nPre-register with the park office: 919-778-6234\nDonations Acce
 pted:\n\nMonetary gifts for Friends of the Cliffs\,\nNew Unwrapped Toys fo
 r Toys for Tot\n\,Canned Goods for the Local Soup Kitchen
CATEGORIES:CCC Activity
END:VEVENT
BEGIN:VTIMEZONE
TZID:America/New_York
X-LIC-LOCATION:America/New_York
BEGIN:STANDARD
DTSTART:20191103T010000
TZOFFSETFROM:-0400
TZOFFSETTO:-0500
TZNAME:EST
END:STANDARD
END:VTIMEZONE
END:VCALENDAR