BEGIN:VCALENDAR
VERSION:2.0
PRODID:-//wp-events-plugin.com//6.4.7.1//EN
TZID:America/New_York
X-WR-TIMEZONE:America/New_York
BEGIN:VEVENT
UID:3598@carolinacanoeclub.org
DTSTART;TZID=America/New_York:20260520T173000
DTEND;TZID=America/New_York:20260520T200000
DTSTAMP:20260327T200922Z
URL:https://www.carolinacanoeclub.org/events/farrington-point-2-2026-05-20
 /
SUMMARY:Farrington Point
DESCRIPTION:It’s that time again! Cool off and roll on at Farrington Poin
 t Wednesday afternoons. Get your rolling groove on while connecting and re
 connecting with friends. These weekly sessions are informal – ask for he
 lp if you need it!\n\nFor the 3rd Wednesday of the month\, bring not only 
 your boats and gear\, but also food to share and grill. Don’t forget you
 r chairs and pack a few extra for your friends! Bring that river dish you 
 are famous for making or bring a few extra packs of hot dogs.\n\nhttps://g
 oo.gl/maps/L3Vw8ZGGJQf3mhBz8
CATEGORIES:Roll Practice
END:VEVENT
BEGIN:VTIMEZONE
TZID:America/New_York
X-LIC-LOCATION:America/New_York
BEGIN:DAYLIGHT
DTSTART:20260308T030000
TZOFFSETFROM:-0500
TZOFFSETTO:-0400
TZNAME:EDT
END:DAYLIGHT
END:VTIMEZONE
END:VCALENDAR