BEGIN:VCALENDAR
VERSION:2.0
PRODID:-//wp-events-plugin.com//6.4.7.1//EN
TZID:America/New_York
X-WR-TIMEZONE:America/New_York
BEGIN:VEVENT
UID:3584@carolinacanoeclub.org
DTSTART;TZID=America/New_York;VALUE=DATE:20260522
DTEND;TZID=America/New_York;VALUE=DATE:20260526
DTSTAMP:20260225T175010Z
URL:https://www.carolinacanoeclub.org/events/families-paddle-too-4/
SUMMARY:Families Paddle Too
DESCRIPTION:\nFamilies Paddle Too\nCoordinator:  Michelle Belknap   Email
 :    m_riddle08@yahoo.com\nDates:  May 22-25.  (Memorial Day Weekend)
  \nThis is an event for the entire family. It's a great opportunity to in
 troduce your young ones to other children their age who are interested in 
 paddling. \n\nDepending on the number of people participating\, we hope t
 o offer opportunities on flatwater and various levels of whitewater up to 
 Class II/III.  Parents are expected to paddle with their children.\n\nSom
 e skilled paddlers form subgroups to go to Ocoee or other more difficult r
 ivers than are offered as part of the children’s groups.\n\nKayaks\, can
 oes\, C-1s\, inflatable kayaks\, pakrafts and catarafts are all acceptable
  paddle boats to use. \n\nThe Smoky Mountain Meadows campground will be t
 he staging area for events and many people will be staying there. \n\n755
  East Alarka Road\, Bryson City\, NC 28713. Directions can be found on the
  Contact Us page.\n\nhttps://smokymtnmeadows.com\n\n 
CATEGORIES:CCC Activity
END:VEVENT
BEGIN:VTIMEZONE
TZID:America/New_York
X-LIC-LOCATION:America/New_York
BEGIN:DAYLIGHT
DTSTART:20260308T030000
TZOFFSETFROM:-0500
TZOFFSETTO:-0400
TZNAME:EDT
END:DAYLIGHT
END:VTIMEZONE
END:VCALENDAR