BEGIN:VCALENDAR
VERSION:2.0
PRODID:-//wp-events-plugin.com//6.4.7.1//EN
TZID:America/New_York
X-WR-TIMEZONE:America/New_York
BEGIN:VEVENT
UID:3292@carolinacanoeclub.org
DTSTART;TZID=America/New_York;VALUE=DATE:20250418
DTEND;TZID=America/New_York;VALUE=DATE:20250421
DTSTAMP:20250310T141836Z
URL:https://www.carolinacanoeclub.org/events/easter-trip-2/
SUMMARY:Easter Trip
DESCRIPTION:\nHi guys\,\nThis Easter Weekend I'll be leading\, as usual\, t
 he annual CCC Easter Trip on Friday\, Saturday\, and Sunday of Easter week
 end\, April 18-20. We'll be camping the main campground at Warriors Path S
 tate Park near Kingsport\, TN. This is located at Exit 59 on I-81 in Tenne
 ssee.\n\n\n\nI've rented three campsites in the main campground\, sites 6\
 , 7\, and 8 for the campers coming on the trip. Each site will hold 3-4 ca
 mpers. If you want to reserve your own site\, you can do so online with th
 e park.\n\n\n\nFor non campers\, there are several motels at Exit 59 and n
 umerous restaurants in the area.\n\n\n\nWe'll meet each morning at 8:30 AM
  at campsite 6 to go over the river levels and choose our trip(s). All the
  rivers in the area are free flowing and subject to recent rainfall amount
 s. We've always been able to find good rivers with good levels. I'll lead\
 , each day\, a novice-low intermediate run so everyone can be assured they
 'll have a river to paddle. If there is a more difficult run available\, w
 e usually have someone competent to lead the trip.\n\n\n\nUnfortunately\, 
 the Nolichucky and Toe systems are not available due to hurricane Helene. 
 Other rivers we have run in the past are:\nLaurel Creek and South Holston 
 at Damascus\, VA\n2 sections of the Clinch River\nBig Cedar Creek\nNorth F
 ork of the Holston near Kingsport\nGreenbriar section of the Middle Prong\
 nLittle River in the Smokies\nBig Tumbling Creek\nBeaverdam Creek near Dam
 ascus\n\n\nOther runs we haven't run before:\nClinch at St Paul\nTaylors M
 ill to Pounding Ford on the Clinch\nChatham Hill section on the North Fork
  of the Holston\n\n\n\nThere's no need to call me to tell me you are comin
 g--- just show up. I'll be at the campground for Thursday afternoon on.\nI
 f you have any questions just call me at 423-366-1464.\n
CATEGORIES:CCC Activity
END:VEVENT
BEGIN:VTIMEZONE
TZID:America/New_York
X-LIC-LOCATION:America/New_York
BEGIN:DAYLIGHT
DTSTART:20250309T030000
TZOFFSETFROM:-0500
TZOFFSETTO:-0400
TZNAME:EDT
END:DAYLIGHT
END:VTIMEZONE
END:VCALENDAR