BEGIN:VCALENDAR
VERSION:2.0
PRODID:-//wp-events-plugin.com//6.4.7.1//EN
TZID:America/New_York
X-WR-TIMEZONE:America/New_York
BEGIN:VEVENT
UID:3283@carolinacanoeclub.org
DTSTART;TZID=America/New_York;VALUE=DATE:20250315
DTEND;TZID=America/New_York;VALUE=DATE:20250316
DTSTAMP:20250204T021845Z
URL:https://www.carolinacanoeclub.org/events/coordinators-choice-richmond-
 va-area-11/
SUMMARY:Coordinator's Choice - Richmond\, VA area
DESCRIPTION:River choice will depend upon water levels.  Possibilities may
  include the James in Richmond\, VA (Pony Pasture to 14th St\; class II-II
 I+\; approx 6 miles) or the Appomattox (Lake Chesdin dam to Petersburg\, V
 A\; class II-III\; approx 7 miles).  Cold water gear will be needed\, as 
 the water will be cold even if the air temps are warmer. Location and meet
 ing time will be posted on CCC and Coastal Canoeists' Facebook pages. Part
 icipants should contact the trip coordinator Jenny Wiley (jwiley.canoe@gma
 il.com) with any questions and/or if they would like to join us. See you o
 n the river!
CATEGORIES:Trip
END:VEVENT
BEGIN:VTIMEZONE
TZID:America/New_York
X-LIC-LOCATION:America/New_York
BEGIN:DAYLIGHT
DTSTART:20250309T030000
TZOFFSETFROM:-0500
TZOFFSETTO:-0400
TZNAME:EDT
END:DAYLIGHT
END:VTIMEZONE
END:VCALENDAR