BEGIN:VCALENDAR
VERSION:2.0
PRODID:-//wp-events-plugin.com//6.4.7.1//EN
TZID:America/New_York
X-WR-TIMEZONE:America/New_York
BEGIN:VEVENT
UID:2591@carolinacanoeclub.org
DTSTART;TZID=America/New_York;VALUE=DATE:20220205
DTEND;TZID=America/New_York;VALUE=DATE:20220207
DTSTAMP:20220131T211737Z
URL:https://www.carolinacanoeclub.org/events/cold-weather-safety-and-rescu
 e-class-and-clinic/
SUMMARY:Cold Weather Safety and Rescue Class and Clinic
DESCRIPTION:Cold Weather/Water Safety and Rescue Class &amp\; Clinic
CATEGORIES:CCC Activity
END:VEVENT
BEGIN:VTIMEZONE
TZID:America/New_York
X-LIC-LOCATION:America/New_York
BEGIN:STANDARD
DTSTART:20211107T010000
TZOFFSETFROM:-0400
TZOFFSETTO:-0500
TZNAME:EST
END:STANDARD
END:VTIMEZONE
END:VCALENDAR